BEGIN:VCALENDAR
PRODID:NingEventWidget-v1
VERSION:2.0
METHOD:PUBLISH
BEGIN:VTIMEZONE
TZID:Pacific/Midway
X-LIC-LOCATION:Pacific/Midway
BEGIN:STANDARD
TZOFFSETFROM:-1100
TZOFFSETTO:-1100
TZNAME:SST
DTSTART:19700101T000000
END:STANDARD
END:VTIMEZONE
BEGIN:VEVENT
UID:3646443:Event:66143
DTSTAMP:20260419T071228Z
SUMMARY:Hay Dryer Information and Member Update
DESCRIPTION:The Ontario Hay and Forage Co-operative Inc. is hosting an
  event on August 12, 2016 from 10am â€“ 3pm at the farm of Scott and D
 arlene Martin, Marhaven Agri â€“ 161 Hawkesville Rd., St. Jacobs, ON.Â
   The key objective of the day is to update members and potential memb
 ers about OHFC activities and market progress.Â  Members are encourage
 d to bring potential members to learn about the opportunities presente
 d by the co-op.Â  The second element of the day will consist of educat
 ing producers about the importance and value of proper hay drying tech
 niques.Â  The Co-op is arranging a variety of speakers and demonstrati
 ons on the topic.\nAdditional details will be released as the program 
 is finalized.Â  Stay tuned.\n\nFor more information visit https://onta
 g.farms.com/events/hay-dryer-information-and-member-update
DTSTART;TZID=Pacific/Midway:20160812T100000
DTEND;TZID=Pacific/Midway:20160812T150000
CATEGORIES:information, session
LOCATION:Marhaven Agri - Farm of Scott & Darlene Martin
WEBSITE:https://ontariohayandforagecooperativeinc.wildapricot.org/even
 t-2287526
URL:https://ontariohayandforagecooperativeinc.wildapricot.org/event-22
 87526
CONTACT:877-892-8663
ORGANIZER:Ontario hay and Forage Co-Operative Inc.
ATTACH;FMTTYPE="image/jpeg":http://storage.ning.com/topology/rest/1.0/
 file/get/1091544807?profile=original
ATTENDEE;ROLE=REQ-PARTICIPANT;PARTSTAT=ACCEPTED;RSVP=TRUE;CN="criach@x
 plornet.com":https://ontag.farms.com/profile/criachxplornetcom
END:VEVENT
END:VCALENDAR
