BEGIN:VCALENDAR
PRODID:NingEventWidget-v1
VERSION:2.0
METHOD:PUBLISH
BEGIN:VTIMEZONE
TZID:Pacific/Midway
X-LIC-LOCATION:Pacific/Midway
BEGIN:STANDARD
TZOFFSETFROM:-1100
TZOFFSETTO:-1100
TZNAME:SST
DTSTART:19700101T000000
END:STANDARD
END:VTIMEZONE
BEGIN:VEVENT
UID:3646443:Event:65478
DTSTAMP:20260421T222907Z
SUMMARY:Hay - Make the Most of it!
DESCRIPTION:Hay – Making the Most of It!\nLely Training Centre\n830 
 Parkinson Rd\nWoodstock, ON\nN4S 8L2\nUnit 6\nMarch 24, 2016 - 9:45am-
  3:35pm\n \n9:45 – Registration\n10:00 - Welcome & Introductions\n1
 0:05 - John Hussack, Independent Crop Consultant, CCA\nEstablishment, 
 Fertility & Winterkill in Forages\n \n10:50 - Break\n \n11:00 – Bi
 ll Brown, GROWMARK\nWeed, Insect & Disease Control\nBenefits of Forage
 s in Your Rotation\n \n11:45 – Larry Davis – Co-Op Director\nOnta
 rio Hay & Forage Co-operative Inc. Update\n \n12:15 - Lunch\n1:00 –
  Sam Zahnd, Manager Business Development ACC\nAdvanced Payment Program
  for Forages\n \n1:15 – Colin MacMillan, Pestell Minerals & Ingredi
 ents Inc.\nHay Preservatives for Quality Assurance\n \n1:35 – Keyno
 te Speaker Dan Undersander\nMaximizing Yield Potential with Proper Tim
 ing\n \n3:35 – Speaker Panel – Q & A\n4:00 – Conclusion\n \nAd
 mission: $25, includes lunch\nTo register: 1-877-892-8663\n\nFor more 
 information visit https://ontag.farms.com/events/hay-make-the-most-of-
 it
DTSTART;TZID=Pacific/Midway:20160324T094500
DTEND;TZID=Pacific/Midway:20160324T160000
CATEGORIES:seminar
LOCATION:Lely Training Centre
WEBSITE:https://www.google.ca/maps/place/830+Parkinson+Rd,+Woodstock,+
 ON+N4S+8L2/@43.1201029,-80.7390341,17z/data=!3m1!4b1!4m2!3m1!1s0x882c1
 f448b7eef5b:0x19ba797f3482dc8f
URL:https://www.google.ca/maps/place/830+Parkinson+Rd,+Woodstock,+ON+N
 4S+8L2/@43.1201029,-80.7390341,17z/data=!3m1!4b1!4m2!3m1!1s0x882c1f448
 b7eef5b:0x19ba797f3482dc8f
CONTACT:877-892-8663
ORGANIZER;CN="Ontario Forage Council":https://ontag.farms.com/profile/
 OntarioForageCouncil403
ATTACH;FMTTYPE="image/jpeg":
ATTENDEE;ROLE=REQ-PARTICIPANT;PARTSTAT=ACCEPTED;RSVP=TRUE;CN="Ontario 
 Forage Council":https://ontag.farms.com/profile/OntarioForageCouncil40
 3
END:VEVENT
END:VCALENDAR
