BEGIN:VCALENDAR
PRODID:NingEventWidget-v1
VERSION:2.0
METHOD:PUBLISH
BEGIN:VTIMEZONE
TZID:Pacific/Midway
X-LIC-LOCATION:Pacific/Midway
BEGIN:STANDARD
TZOFFSETFROM:-1100
TZOFFSETTO:-1100
TZNAME:SST
DTSTART:19700101T000000
END:STANDARD
END:VTIMEZONE
BEGIN:VEVENT
UID:3646443:Event:71763
DTSTAMP:20260421T081142Z
SUMMARY:Hay to Haylage - What Do I Need to Know?
DESCRIPTION:Have you ever considered feeding haylage to your horses, b
 ut don't know where to begin?  Join us for this informative afternoon
  to learn how to introduce haylage into your horse's diet!  Topics wi
 ll include:\n\nHay vs. Haylage, challenges & benefits - Christine O'Re
 illy, OMAFRA Forage/Grazier Specialist\nVaccinations specific to feedi
 ng haylage - Markdale Veterinary Services\nDifferences from an equipme
 nt perspective - Maplelane Farm Service & Tubeline Manufacturing\nFeed
 ing haylage panel - Hear from people with experience feeding haylage.\
 n\nSpace is limited for this event, and is on a first-come, first-serv
 ed basis.  Please register to secure your seat! 877-892-8663.\n\nFor 
 more information visit https://ontag.farms.com/events/hay-to-haylage-w
 hat-do-i-need-to-know
DTSTART;TZID=Pacific/Midway:20171209T130000
DTEND;TZID=Pacific/Midway:20171209T160000
CATEGORIES:information, session
LOCATION:Grey Ag Boardroom
WEBSITE:http://www.ontarioforagecouncil.com/programs/equine-events
URL:http://www.ontarioforagecouncil.com/programs/equine-events
CONTACT:877-892-8663
ORGANIZER;CN="Ontario Forage Council":https://ontag.farms.com/profile/
 OntarioForageCouncil403
ATTACH;FMTTYPE="image/jpeg":http://storage.ning.com/topology/rest/1.0/
 file/get/1091550871?profile=original
ATTENDEE;ROLE=REQ-PARTICIPANT;PARTSTAT=ACCEPTED;RSVP=TRUE;CN="Ontario 
 Forage Council":https://ontag.farms.com/profile/OntarioForageCouncil40
 3
END:VEVENT
END:VCALENDAR
