BEGIN:VCALENDAR
PRODID:NingEventWidget-v1
VERSION:2.0
METHOD:PUBLISH
BEGIN:VTIMEZONE
TZID:Pacific/Midway
X-LIC-LOCATION:Pacific/Midway
BEGIN:STANDARD
TZOFFSETFROM:-1100
TZOFFSETTO:-1100
TZNAME:SST
DTSTART:19700101T000000
END:STANDARD
END:VTIMEZONE
BEGIN:VEVENT
UID:3646443:Event:70188
DTSTAMP:20260419T092900Z
SUMMARY:Hazelnut Grower Trial Farm Tour: Port Dover Farms
DESCRIPTION:The OHA is pleased to be hosting, in partnership with Port
  Dover Farms, the next public tour of the farms in our Grower Trial Pr
 ogram!\r\nGraham Dyer, the President and CEO of Farms.com, will walk 
 you through a tour of his orchard and talk about his experiences in hi
 s first year after planting ten acres in high-density (270 trees per a
 cre) hazelnuts in Spring 2016.\r\nThis tour is free to attend and open
  to all.\r\nAgenda\r\n11:00 AM - 11:15 AM: Arrival - Coffee and donut
 s provided by OHA.\r\n11:15 AM - 12:30 PM:\r\nIntroductions\r\n\r\n\r\
 nWelcome & Oregon Summer Tour Experiences - Graham Dyer, President & 
 CEO, Farms.com\r\n\r\n\r\nOHA Introduction and History - Linda Grimo,
  Chair, OHA\r\n\r\n\r\nOverview of Grower Trial Project and Tour Sch
 edule -Andrew Nixon, Project Manager, OHA\r\n\r\n\r\nField Tour\r\n\r\
 n\r\nSite selection and planning - irrigation, drainage, variety selec
 tion\r\n\r\n\r\nMechanized planting process\r\n\r\n\r\nPost-planting c
 are - irrigation, weather, disease management, equipment, etc.\r\n\r\n
 \r\n12:30 PM - 1:30 PM:\r\nLunch\r\n\r\n\r\nServed by David's Restaur
 ant\r\n\r\n\r\nIndustry Overview \r\n\r\n\r\nFerrero Plan for Ontario
  - Fabrizio Secco, CEO, Ferrero Canada & Barb Yates, Senior Agronomis
 t, Ferrero Canada\r\n\r\n\r\nCracking the Nut: Hazelnut Economics - G
 raham Dyer\r\n\r\n\r\n1:30 PM - 2:30 PM: Hazelnut Panel Q&A\n\nFor mo
 re information visit https://ontag.farms.com/events/hazelnut-grower-tr
 ial-farm-tour-port-dover-farms
DTSTART;TZID=Pacific/Midway:20170909T110000
DTEND;TZID=Pacific/Midway:20170909T143000
CATEGORIES:farm, tour
LOCATION:156 Marburg Road
WEBSITE:https://www.eventbrite.ca/e/hazelnut-grower-trial-farm-tour-po
 rt-dover-farms-tickets-37111306918
URL:https://www.eventbrite.ca/e/hazelnut-grower-trial-farm-tour-port-d
 over-farms-tickets-37111306918
CONTACT:
ORGANIZER:Ontario Hazelnut Association
ATTACH;FMTTYPE="image/jpeg":
ATTENDEE;ROLE=REQ-PARTICIPANT;PARTSTAT=ACCEPTED;RSVP=TRUE;CN="OntAG Ad
 min":https://ontag.farms.com/profile/OntAGAdmin
END:VEVENT
END:VCALENDAR
