BEGIN:VCALENDAR
PRODID:NingEventWidget-v1
VERSION:2.0
METHOD:PUBLISH
BEGIN:VTIMEZONE
TZID:Pacific/Midway
X-LIC-LOCATION:Pacific/Midway
BEGIN:STANDARD
TZOFFSETFROM:-1100
TZOFFSETTO:-1100
TZNAME:SST
DTSTART:19700101T000000
END:STANDARD
END:VTIMEZONE
BEGIN:VEVENT
UID:3646443:Event:41889
DTSTAMP:20260421T081641Z
SUMMARY:HCFA (Huron County Federation of Agriculture) Annual Meeting
DESCRIPTION:HCFA (Huron County Federation of Agriculture) Annual Meeti
 ng\nOctober 18, 2013 from 6pm to 10pm – Holmesville Community Centre
  (190 Community Centre Rd, Holmesville) (west of Clinton)\nHuron Count
 y Federation of Agriculture's Annual General Meeting & OFA Regional Me
 eting. Elections, speakers, and a good meal !\nFor Tickets Call 519-48
 2-9642\n\nFor more information visit https://ontag.farms.com/events/hc
 fa-huron-county-federation-of-agriculture-annual-meeting
DTSTART;TZID=Pacific/Midway:20131018T180000
DTEND;TZID=Pacific/Midway:20131018T220000
CATEGORIES:annual, general, meeting
LOCATION:Holmesville Community Centre
WEBSITE:http://www.hcfa.on.ca/
URL:http://www.hcfa.on.ca/
CONTACT:519-482-9642
ORGANIZER;CN="Carol Leeming":https://ontag.farms.com/profile/CarolLeem
 ing
ATTACH;FMTTYPE="image/jpeg":
ATTENDEE;ROLE=REQ-PARTICIPANT;PARTSTAT=ACCEPTED;RSVP=TRUE;CN="Carol Le
 eming":https://ontag.farms.com/profile/CarolLeeming
END:VEVENT
END:VCALENDAR
