BEGIN:VCALENDAR
PRODID:NingEventWidget-v1
VERSION:2.0
METHOD:PUBLISH
BEGIN:VTIMEZONE
TZID:Pacific/Midway
X-LIC-LOCATION:Pacific/Midway
BEGIN:STANDARD
TZOFFSETFROM:-1100
TZOFFSETTO:-1100
TZNAME:SST
DTSTART:19700101T000000
END:STANDARD
END:VTIMEZONE
BEGIN:VEVENT
UID:3646443:Event:78493
DTSTAMP:20260421T082851Z
SUMMARY:Healthy Farmers, Healthy Farms - London
DESCRIPTION:Join on March 10 and 11 in Southwestern Ontario, in partne
 rship with Do More Agriculture to engage and educate farmers and the a
 gricultural community at large in support of mental health in rural co
 mmunities.\r\nFarmers are the backbone of our rural communities. Howev
 er, our farmers are facing risk and uncertainty like never-before, fro
 m Mother Nature to changing markets and regulations, much of which is 
 outside of their control. Public trust is now putting more pressure on
  farmers. A recent University of Guelph study shows farmers suffer fro
 m higher rates of stress, anxiety, and depression than the general pop
 ulation. This incredible stress is jeopardizing our farmers' health an
 d likewise, the health of our rural communities.\r\nA variety of speak
 ers with diverse backgrounds in Mental Health, Farm Business Managemen
 t and Community Support will help workshop participants recognize the 
 signs of stress and build the knowledge, skills and practices to gain 
 the confidence to assist one another and build a local support network
 , while putting measures in place to support their own mental health. 
 Martine Oliveria from AGS Rehab Solutions will be facilitating the men
 tal health portion of the workshop.To register, please click here\n\nF
 or more information visit https://ontag.farms.com/events/healthy-farme
 rs-healthy-farms-london
DTSTART;TZID=Pacific/Midway:20200311T083000
DTEND;TZID=Pacific/Midway:20200311T153000
CATEGORIES:workshop
LOCATION:Western Fair District: Carousel Room
WEBSITE:https://www.eventbrite.ca/e/healthy-farmers-healthy-farms-supp
 orting-our-rural-communities-tickets-92976281561
URL:https://www.eventbrite.ca/e/healthy-farmers-healthy-farms-supporti
 ng-our-rural-communities-tickets-92976281561
CONTACT:
ORGANIZER:OrganizerFarm Management Canada
ATTACH;FMTTYPE="image/jpeg":
ATTENDEE;ROLE=REQ-PARTICIPANT;PARTSTAT=ACCEPTED;RSVP=TRUE;CN="OntAG Ad
 min":https://ontag.farms.com/profile/OntAGAdmin
END:VEVENT
END:VCALENDAR
