BEGIN:VCALENDAR
PRODID:NingEventWidget-v1
VERSION:2.0
METHOD:PUBLISH
BEGIN:VTIMEZONE
TZID:Pacific/Midway
X-LIC-LOCATION:Pacific/Midway
BEGIN:STANDARD
TZOFFSETFROM:-1100
TZOFFSETTO:-1100
TZNAME:SST
DTSTART:19700101T000000
END:STANDARD
END:VTIMEZONE
BEGIN:VEVENT
UID:3646443:Event:78697
DTSTAMP:20260421T064621Z
SUMMARY:Healthy Farmers, Healthy Farms Supporting our Rural Communitie
 s
DESCRIPTION:Join on March 10 and 11 in Southwestern Ontario, in partne
 rship with Do More Agriculture to engage and educate farmers and the a
 gricultural community at large in support of mental health in rural co
 mmunities.\r\nFarmers are the backbone of our rural communities. Howev
 er, our farmers are facing risk and uncertainty like never-before, fro
 m Mother Nature to changing markets and regulations, much of which is 
 outside of their control. Public trust is now putting more pressure on
  farmers. A recent University of Guelph study shows farmers suffer fro
 m higher rates of stress, anxiety, and depression than the general pop
 ulation. This incredible stress is jeopardizing our farmers' health an
 d likewise, the health of our rural communities.A variety of speakers 
 with diverse backgrounds in Mental Health, Farm Business Management an
 d Community Support will help workshop participants recognize the sign
 s of stress and build the knowledge, skills and practices to gain the 
 confidence to assist one another and build a local support network, wh
 ile putting measures in place to support their own mental health. Mart
 ine Oliveria from AGS Rehab Solutions will be facilitating the mental 
 health portion of the workshop.To register, Please click here\n\nFor m
 ore information visit https://ontag.farms.com/events/healthy-farmers-h
 ealthy-farms-supporting-our-rural-communities
DTSTART;TZID=Pacific/Midway:20200310T083000
DTEND;TZID=Pacific/Midway:20200310T153000
CATEGORIES:workshop
LOCATION:Hampton Inn &amp; Suites by Hilton
WEBSITE:https://www.google.com/maps?hl=en&amp;q=43.5460428,-80.3078613
 9999998&amp;sll=43.5460428,-80.30786139999998&amp;z=13&amp;markers=43.
 5460428,-80.30786139999998
URL:https://www.google.com/maps?hl=en&amp;q=43.5460428,-80.30786139999
 998&amp;sll=43.5460428,-80.30786139999998&amp;z=13&amp;markers=43.5460
 428,-80.30786139999998
CONTACT:
ORGANIZER:Farm Management Canada
ATTACH;FMTTYPE="image/jpeg":
ATTENDEE;ROLE=REQ-PARTICIPANT;PARTSTAT=ACCEPTED;RSVP=TRUE;CN="OntAG Ad
 min":https://ontag.farms.com/profile/OntAGAdmin
END:VEVENT
END:VCALENDAR
