BEGIN:VCALENDAR
PRODID:NingEventWidget-v1
VERSION:2.0
METHOD:PUBLISH
BEGIN:VTIMEZONE
TZID:Pacific/Midway
X-LIC-LOCATION:Pacific/Midway
BEGIN:STANDARD
TZOFFSETFROM:-1100
TZOFFSETTO:-1100
TZNAME:SST
DTSTART:19700101T000000
END:STANDARD
END:VTIMEZONE
BEGIN:VEVENT
UID:3646443:Event:19887
DTSTAMP:20260421T092119Z
SUMMARY:Helicopter Rides at Southbrook Farms
DESCRIPTION:Southbrook Farms and NationalHelicopters would like to off
 er you the thrill of a lifetime!\nYour experience begins as you boardy
 our helicopter and lift off. \nAs you soar skyward you will take in 
 sights of beautiful scenery, breath-taking displays of fall colours an
 d a spectacular view of the city in the distance.  10 a.m.-5 p.m. Eve
 ry Saturday & Sunday in October (weather permitting). At specially dis
 counted prices. Call for more information.\n\nFor more information vis
 it https://ontag.farms.com/events/helicopter-rides-at-southbrook
DTSTART;TZID=Pacific/Midway:20111001T100000
DTEND;TZID=Pacific/Midway:20111030T170000
CATEGORIES:family, fun
LOCATION:Southbrook Pumpkin Patch
WEBSITE:http://www.southbrookpumpkinpatch.com/southbrook-pumpkin-patch
 -directions.htm
URL:http://www.southbrookpumpkinpatch.com/southbrook-pumpkin-patch-dir
 ections.htm
CONTACT:(905) 832-2548
ORGANIZER:Southbrook Farms & National Helicopters
ATTACH;FMTTYPE="image/jpeg":
ATTENDEE;ROLE=REQ-PARTICIPANT;PARTSTAT=ACCEPTED;RSVP=TRUE;CN="Southbro
 ok Farms":https://ontag.farms.com/profile/CathyChiappetta
END:VEVENT
END:VCALENDAR
