BEGIN:VCALENDAR
PRODID:NingEventWidget-v1
VERSION:2.0
METHOD:PUBLISH
BEGIN:VTIMEZONE
TZID:Pacific/Midway
X-LIC-LOCATION:Pacific/Midway
BEGIN:STANDARD
TZOFFSETFROM:-1100
TZOFFSETTO:-1100
TZNAME:SST
DTSTART:19700101T000000
END:STANDARD
END:VTIMEZONE
BEGIN:VEVENT
UID:3646443:Event:10880
DTSTAMP:20260421T013340Z
SUMMARY:Hog Marketing 101 - March 2 & 9, 2011 (two afternoons)
DESCRIPTION:This workshop will help you to understand, develop, and im
 plement better hog marketing practices. Learn about the basic market c
 oncepts, tools, and information sources needed to develop your own hog
  marketing plan.\nYou will learn about:\n\nMarket fundamentals\nOntari
 o base formula price impacts\nThe importance of your cost of productio
 n\nThe basics of forward contracting and hedging with the futures\nAdv
 antages / Disadvantages of the marketing tools\nKey features of a hog 
 marketing plan\n\nRegister Today! Space is Limited to 20\nThis trainin
 g may be eligible for cost-share funding through Growing Forward Busin
 ess Development for Farm Businesses.\nPre-registration required by Feb
 ruary 25, 2011 with:\nLinda DillonPhone/Fax: 519-482-3333Email: linda.
 dillon@ontario.ca\nMail to:Linda Dillon, OMAFRA100 Don St., Clinton, O
 NN0M 1L0\nEach participant receives a Hog Marketing Resource binder co
 vering workshop material and market information.\nAlternate Format: pd
 f (120 kb)\n \n\nFor more information visit https://ontag.farms.com/e
 vents/hog-marketing-101-march-2-9
DTSTART;TZID=Pacific/Midway:20110302T131500
DTEND;TZID=Pacific/Midway:20110302T160000
CATEGORIES:2, half, day, workshops
LOCATION:100 Don St., Clinton
WEBSITE:http://www.omafra.gov.on.ca/english/busdev/conference/marketin
 g/clinton.htm
URL:http://www.omafra.gov.on.ca/english/busdev/conference/marketing/cl
 inton.htm
CONTACT:1-877-424-1300  E-mail: ag.info.omafra@ontario.ca
ORGANIZER:Huron County Pork Producers' Association
ATTACH;FMTTYPE="image/jpeg":
ATTENDEE;ROLE=REQ-PARTICIPANT;PARTSTAT=ACCEPTED;RSVP=TRUE;CN="OntAG Ad
 min":https://ontag.farms.com/profile/OntAGAdmin
END:VEVENT
END:VCALENDAR
