BEGIN:VCALENDAR
PRODID:NingEventWidget-v1
VERSION:2.0
METHOD:PUBLISH
BEGIN:VTIMEZONE
TZID:Pacific/Midway
X-LIC-LOCATION:Pacific/Midway
BEGIN:STANDARD
TZOFFSETFROM:-1100
TZOFFSETTO:-1100
TZNAME:SST
DTSTART:19700101T000000
END:STANDARD
END:VTIMEZONE
BEGIN:VEVENT
UID:3646443:Event:2510
DTSTAMP:20260422T012055Z
SUMMARY:hog marketing appeal hearing
DESCRIPTION:continuation of the hearing will take place @ the best wes
 tern inn\n@ stoneroad in guelph\nwednesday december 02/09.\ntime 9. a.
 m.\n\nFor more information visit https://ontag.farms.com/events/hog-ma
 rketing-appeal-hearing
DTSTART;TZID=Pacific/Midway:20091127T180000
DTEND;TZID=Pacific/Midway:20091127T190000
CATEGORIES:hog, marketing, hearing
LOCATION:best western inn @ stoneroad guelph
WEBSITE:
URL:
CONTACT:
ORGANIZER;CN="rein minnema":https://ontag.farms.com/profile/reinminnem
 a
ATTACH;FMTTYPE="image/jpeg":
ATTENDEE;ROLE=REQ-PARTICIPANT;PARTSTAT=ACCEPTED;RSVP=TRUE;CN="rein min
 nema":https://ontag.farms.com/profile/reinminnema
END:VEVENT
END:VCALENDAR
