BEGIN:VCALENDAR
PRODID:NingEventWidget-v1
VERSION:2.0
METHOD:PUBLISH
BEGIN:VTIMEZONE
TZID:Pacific/Midway
X-LIC-LOCATION:Pacific/Midway
BEGIN:STANDARD
TZOFFSETFROM:-1100
TZOFFSETTO:-1100
TZNAME:SST
DTSTART:19700101T000000
END:STANDARD
END:VTIMEZONE
BEGIN:VEVENT
UID:3646443:Event:67374
DTSTAMP:20260423T051051Z
SUMMARY:Horse Day
DESCRIPTION:Grey Bruce Farmers’ Week (#GBFW17), in its 51st year, wi
 ll run from Wednesday, January 4th to Tuesday, January 10th, starting 
 with Beef Day, and ending on Crops Day.  It is a 7 day Agricultural C
 onference packed with a most impressive and informative line-up of spe
 akers!   The coordinators for this event, Grey County Ag Services, i
 n conjunction with agricultural commodity leaders from Grey and Bruce 
 Counties, have attempted to feature at least one high profile speaker 
 for each day, targeting the issues and challenges facing the farming c
 ommunity today. \n \nHere’s a glimpse of some of the featured keyn
 ote speakers and presentations:\n\nHorse Day will deliver an abundance
  of practical tips and information regarding: Supplementing Your Horse
 ’s Diet, the Importance of Balance; Equine Chiropractic and Rehab Ex
 ercises; and Working with Suffolk Punch Draft Horses on the Farm.  Pl
 us, hold onto your hat while Sarah Cuthbertson, Owner, Eat Sleep Ride 
 Repeat, shares Travels, Adventure and Horses, about her ultra-enduranc
 e races in Mongolia, Iceland and South Africa.\n\nThe Equine Youth Pro
 gram looks outstanding again this year.  It will once again consist o
 f all interactive material. Two Youth Champions will be highlighted: N
 atalia Heinke, from the Blue Mountain Pony Club; and Evy Verschaeve, S
 outhern Ontario Cattle Sorting.  The youth will also enjoy some fun a
 nd games in our Horse’n Around Sessions.  Horsey Crafts will see us
  making Pop Bottle Hobby Horses.  Participants are asked to bring cle
 an, dry, 2L pop bottles.\n\n\n\n\nFor more information visit https://o
 ntag.farms.com/events/horse-day
DTSTART;TZID=Pacific/Midway:20170108T094500
DTEND;TZID=Pacific/Midway:20170108T160000
CATEGORIES:conference
LOCATION:Elmwood Communnity Centre
WEBSITE:http://www.greyagservices.ca/index.php/grey-bruce-farmer-s-wee
 k/program/horse-day
URL:http://www.greyagservices.ca/index.php/grey-bruce-farmer-s-week/pr
 ogram/horse-day
CONTACT:519 986-3756
ORGANIZER;CN="Grey Bruce Farmers' Week":https://ontag.farms.com/profil
 e/GreyBruceFarmersWeek
ATTACH;FMTTYPE="image/jpeg":http://storage.ning.com/topology/rest/1.0/
 file/get/1091548012?profile=original
ATTENDEE;ROLE=REQ-PARTICIPANT;PARTSTAT=ACCEPTED;RSVP=TRUE;CN="Grey Bru
 ce Farmers' Week":https://ontag.farms.com/profile/GreyBruceFarmersWeek
END:VEVENT
END:VCALENDAR
