BEGIN:VCALENDAR
PRODID:NingEventWidget-v1
VERSION:2.0
METHOD:PUBLISH
BEGIN:VTIMEZONE
TZID:Pacific/Midway
X-LIC-LOCATION:Pacific/Midway
BEGIN:STANDARD
TZOFFSETFROM:-1100
TZOFFSETTO:-1100
TZNAME:SST
DTSTART:19700101T000000
END:STANDARD
END:VTIMEZONE
BEGIN:VEVENT
UID:3646443:Event:74711
DTSTAMP:20260421T200628Z
SUMMARY:Horse Health Night
DESCRIPTION:Dr. Tee Fox’s topic will be Equine Skin Conditions -  
 Scratching the Surface of Equine Skin Diseases”.    Come networ
 k with other like-minded individuals for a highly entertaining evening
 .  Jointly sponsored by Grey Ag Services and Markdale Veterinary Serv
 ices.\n REGISTRATION IS REQUIRED - please see attached course poster 
 or www.greyagservices.ca\n$15.00 per person\nPre-Register By: Mon. Mar
 . 25th, 2019\n \n\nFor more information visit https://ontag.farms.com
 /events/horse-health-night-3
DTSTART;TZID=Pacific/Midway:20190328T193000
DTEND;TZID=Pacific/Midway:20190328T213000
CATEGORIES:evening, course
LOCATION:Grey Ag Services, Lower level of Grey Gables, rear entrance
WEBSITE:http://www.greyagservices.ca
URL:http://www.greyagservices.ca
CONTACT:5199863756
ORGANIZER:Grey Ag Services
ATTACH;FMTTYPE="image/jpeg":https://storage.ning.com/topology/rest/1.0
 /file/get/830464730?profile=original
ATTENDEE;ROLE=REQ-PARTICIPANT;PARTSTAT=ACCEPTED;RSVP=TRUE;CN="Grey Bru
 ce Farmers' Week":https://ontag.farms.com/profile/GreyBruceFarmersWeek
END:VEVENT
END:VCALENDAR
