BEGIN:VCALENDAR
PRODID:NingEventWidget-v1
VERSION:2.0
METHOD:PUBLISH
BEGIN:VTIMEZONE
TZID:Pacific/Midway
X-LIC-LOCATION:Pacific/Midway
BEGIN:STANDARD
TZOFFSETFROM:-1100
TZOFFSETTO:-1100
TZNAME:SST
DTSTART:19700101T000000
END:STANDARD
END:VTIMEZONE
BEGIN:VEVENT
UID:3646443:Event:113485
DTSTAMP:20260422T072443Z
SUMMARY:Horse Health Night: Dentistry &amp; Vaccinations
DESCRIPTION:Join Dr. Tee Fox and Dr. Marika Van Schaik, both from Mark
 dale Veterinary Services, for an informative evening with fellow horse
  enthusiasts. They will be covering Dentistry and Vaccinations, come p
 repared with questions!\nPresented by: Dr. Tee Fox and Dr. Marika Van 
 Schaik of Markdale Veterinary Services  Tuesday February 20th, 2024, 7
 :00 - 9:00 pm at Grey Ag Services, also livestreamed. $20. Registratio
 n is required.\n\nFor more information visit https://ontag.farms.com/e
 vents/horse-health-night-dentistry-amp-vaccinations
DTSTART;TZID=Pacific/Midway:20240220T190000
DTEND;TZID=Pacific/Midway:20240220T210000
CATEGORIES:course, "&amp", social
LOCATION:Grey Ag Services
WEBSITE:https://www.greyagservices.ca/
URL:https://www.greyagservices.ca/
CONTACT:5199863756
ORGANIZER:Grey Ag Services
ATTACH;FMTTYPE="image/jpeg":https://storage.ning.com/topology/rest/1.0
 /file/get/12365479261?profile=original
ATTENDEE;ROLE=REQ-PARTICIPANT;PARTSTAT=ACCEPTED;RSVP=TRUE;CN="Grey Bru
 ce Farmers' Week":https://ontag.farms.com/profile/GreyBruceFarmersWeek
END:VEVENT
END:VCALENDAR
