BEGIN:VCALENDAR
PRODID:NingEventWidget-v1
VERSION:2.0
METHOD:PUBLISH
BEGIN:VTIMEZONE
TZID:Pacific/Midway
X-LIC-LOCATION:Pacific/Midway
BEGIN:STANDARD
TZOFFSETFROM:-1100
TZOFFSETTO:-1100
TZNAME:SST
DTSTART:19700101T000000
END:STANDARD
END:VTIMEZONE
BEGIN:VEVENT
UID:3646443:Event:101839
DTSTAMP:20260421T194005Z
SUMMARY:Horse Pasture Management
DESCRIPTION:Horse Pasture Management. Facilitator: Christine O’Rei
 lly, Forage & Grazing Specialist, OMAFRA \nHow can you manage pasture
 s to maximize the amount of grazing available to your horse(s)? Good p
 asture management requires balancing what the horses need with what th
 e grass needs. This talk will cover how grass grows and some tips to m
 anage horse pasture. \nPlease email info@greyagservices.ca to registe
 r\n\nFor more information visit https://ontag.farms.com/events/horse-n
 ight-grey-ag-services
DTSTART;TZID=Pacific/Midway:20210204T190000
DTEND;TZID=Pacific/Midway:20210204T200000
CATEGORIES:agricultural, education, course
LOCATION:ONLINE Grey Agricultual Services Services
WEBSITE:http://www.greyagservices.ca
URL:http://www.greyagservices.ca
CONTACT:5199863756
ORGANIZER:Grey Ag Services
ATTACH;FMTTYPE="image/jpeg":https://storage.ning.com/topology/rest/1.0
 /file/get/8476950073?profile=original
ATTENDEE;ROLE=REQ-PARTICIPANT;PARTSTAT=ACCEPTED;RSVP=TRUE;CN="Grey Bru
 ce Farmers' Week":https://ontag.farms.com/profile/GreyBruceFarmersWeek
END:VEVENT
END:VCALENDAR
