BEGIN:VCALENDAR
PRODID:NingEventWidget-v1
VERSION:2.0
METHOD:PUBLISH
BEGIN:VTIMEZONE
TZID:Pacific/Midway
X-LIC-LOCATION:Pacific/Midway
BEGIN:STANDARD
TZOFFSETFROM:-1100
TZOFFSETTO:-1100
TZNAME:SST
DTSTART:19700101T000000
END:STANDARD
END:VTIMEZONE
BEGIN:VEVENT
UID:3646443:Event:73990
DTSTAMP:20260423T090922Z
SUMMARY:How to Build a Tax-Saving Transition Plan - Vineland
DESCRIPTION:Lance Stockbrugger will help you discover the strategies b
 ehind farm transferplans that make farm transfer easier and save tax a
 t the same time. You'll learn the fundamentals of transition planning,
  and how starting the process today can give you important flexibility
  down the road.      Highlights:   • Discover common fea
 rs that get in the way of transition planning    • Learn how bus
 iness structure can help transition farm assets while minimizing overa
 ll taxes    • Get strategies to control and creditor-protect you
 r assets even while the next generation uses them     • Examin
 e salary strategies that maximize after-tax cash flow    • Learn
  how to use your capital gains exemption to reduce anxiety    • 
 Identify tax traps and learn how you can avoid them\r\nLunch is includ
 ed.\n\nFor more information visit https://ontag.farms.com/events/how-t
 o-build-a-tax-saving-transition-plan-vineland
DTSTART;TZID=Pacific/Midway:20190110T100000
DTEND;TZID=Pacific/Midway:20190110T140000
CATEGORIES:seminar
LOCATION:West Niagara Agricultural Centre &amp; Fairgrounds - Communit
 y Hall
WEBSITE:https://www.eventbrite.ca/e/how-to-build-a-tax-saving-transiti
 on-plan-vineland-registration-49219373471
URL:https://www.eventbrite.ca/e/how-to-build-a-tax-saving-transition-p
 lan-vineland-registration-49219373471
CONTACT:
ORGANIZER:Farm Credit Canada
ATTACH;FMTTYPE="image/jpeg":
ATTENDEE;ROLE=REQ-PARTICIPANT;PARTSTAT=ACCEPTED;RSVP=TRUE;CN="OntAG Ad
 min":https://ontag.farms.com/profile/OntAGAdmin
END:VEVENT
END:VCALENDAR
