BEGIN:VCALENDAR
PRODID:NingEventWidget-v1
VERSION:2.0
METHOD:PUBLISH
BEGIN:VTIMEZONE
TZID:Pacific/Midway
X-LIC-LOCATION:Pacific/Midway
BEGIN:STANDARD
TZOFFSETFROM:-1100
TZOFFSETTO:-1100
TZNAME:SST
DTSTART:19700101T000000
END:STANDARD
END:VTIMEZONE
BEGIN:VEVENT
UID:3646443:Event:59208
DTSTAMP:20260422T002416Z
SUMMARY:How to Thrive in Canada’s Dairy Sector -Embro
DESCRIPTION:From global trends to specific issues, we’ll examine how
  producers can grow and manage a successful operation in today’s dai
 ry sector.\nBenefits of attending\n\nexplore Canada’s dairy industry
  relative to global supply, demand and markets\ndiscover the big consu
 mer trends likely to affect dairy product consumption\nunderstand the 
 relationship between the price of milk at the farm and retail dairy pr
 oduct prices\n\n  Lunch is being served.\n\nFor more information visit
  https://ontag.farms.com/events/how-to-thrive-in-canada-s-dairy-sector
DTSTART;TZID=Pacific/Midway:20141201T120000
DTEND;TZID=Pacific/Midway:20141201T153000
CATEGORIES:fcc, learning
LOCATION:Embro Zorra Community Centre-355644 35th Line
WEBSITE:http://www.cvent.com/events/how-to-thrive-in-canada-s-dairy-se
 ctor/event-summary-417d99f9a91c424bba4fd1f6b338d50c.aspx?lang=en
URL:http://www.cvent.com/events/how-to-thrive-in-canada-s-dairy-sector
 /event-summary-417d99f9a91c424bba4fd1f6b338d50c.aspx?lang=en
CONTACT:
ORGANIZER:Farm Credit Canada
ATTACH;FMTTYPE="image/jpeg":http://storage.ning.com/topology/rest/1.0/
 file/get/1091501716?profile=original
ATTENDEE;ROLE=REQ-PARTICIPANT;PARTSTAT=ACCEPTED;RSVP=TRUE;CN="OntAG Ad
 min":https://ontag.farms.com/profile/OntAGAdmin
END:VEVENT
END:VCALENDAR
