BEGIN:VCALENDAR
PRODID:NingEventWidget-v1
VERSION:2.0
METHOD:PUBLISH
BEGIN:VTIMEZONE
TZID:Pacific/Midway
X-LIC-LOCATION:Pacific/Midway
BEGIN:STANDARD
TZOFFSETFROM:-1100
TZOFFSETTO:-1100
TZNAME:SST
DTSTART:19700101T000000
END:STANDARD
END:VTIMEZONE
BEGIN:VEVENT
UID:3646443:Event:72881
DTSTAMP:20260421T131007Z
SUMMARY:Human Resource Day
DESCRIPTION:Poultry Industry Council (PIC) in partnership with the Pou
 ltry Service Association (PSA) present Human Resource Day, an educatio
 nal event aimed at business owners, operators and HR personnel.\nThe s
 ession aims to educate participants on best practices to protect their
  business from the pressure of special interest groups, become more ef
 fective managers and understand legal rights as peoples in upper manag
 ement positions.  \n\nThe fee is $200.00 and includes light breakf
 ast, lunch and breaks.\nFor a full copy of the agenda, please visit th
 e Poultry Industry Council website. \nPIC reserves the right to deny 
 registration to any party not affiliated with the PIC or PSA.\n\nFollo
 w us on Twitter @PoultryIndCou \n\nFor more information visit https:/
 /ontag.farms.com/events/human-resource-day
DTSTART;TZID=Pacific/Midway:20180516T093000
DTEND;TZID=Pacific/Midway:20180516T153000
CATEGORIES:conference
LOCATION:Holiday Inn and Conference Centre Guelph
WEBSITE:http://www.poultryindustrycouncil.ca/hr-day-may-16-2018/
URL:http://www.poultryindustrycouncil.ca/hr-day-may-16-2018/
CONTACT:5198370284
ORGANIZER;CN="Casey Riddle":https://ontag.farms.com/profile/CaseyRiddl
 e
ATTACH;FMTTYPE="image/jpeg":http://storage.ning.com/topology/rest/1.0/
 file/get/1091552496?profile=original
ATTENDEE;ROLE=REQ-PARTICIPANT;PARTSTAT=ACCEPTED;RSVP=TRUE;CN="Casey Ri
 ddle":https://ontag.farms.com/profile/CaseyRiddle
END:VEVENT
END:VCALENDAR
