BEGIN:VCALENDAR
PRODID:NingEventWidget-v1
VERSION:2.0
METHOD:PUBLISH
BEGIN:VTIMEZONE
TZID:Pacific/Midway
X-LIC-LOCATION:Pacific/Midway
BEGIN:STANDARD
TZOFFSETFROM:-1100
TZOFFSETTO:-1100
TZNAME:SST
DTSTART:19700101T000000
END:STANDARD
END:VTIMEZONE
BEGIN:VEVENT
UID:3646443:Event:56196
DTSTAMP:20260422T134037Z
SUMMARY:Huron County Soil & Crop - Soil Management Day - Sept 3rd
DESCRIPTION:Soil Management Day Sept 3. Workshop, BBQ & Tillage Demo. 
 $35 for Members. Signup by Aug 25 for chance at prize pack\n\n\nFor mo
 re information visit https://ontag.farms.com/events/huron-county-soil-
 crop-soil-management-day-sept-3rd
DTSTART;TZID=Pacific/Midway:20140903T130000
DTEND;TZID=Pacific/Midway:20140903T190000
CATEGORIES:soil, management, day
LOCATION:Claussen Farm
WEBSITE:http://oscia.wildapricot.org/
URL:http://oscia.wildapricot.org/
CONTACT:
ORGANIZER:Huron County Soil and Crop Improvement
ATTACH;FMTTYPE="image/jpeg":
ATTENDEE;ROLE=REQ-PARTICIPANT;PARTSTAT=ACCEPTED;RSVP=TRUE;CN="OntAG Ad
 min":https://ontag.farms.com/profile/OntAGAdmin
END:VEVENT
END:VCALENDAR
