BEGIN:VCALENDAR
PRODID:NingEventWidget-v1
VERSION:2.0
METHOD:PUBLISH
BEGIN:VTIMEZONE
TZID:Pacific/Midway
X-LIC-LOCATION:Pacific/Midway
BEGIN:STANDARD
TZOFFSETFROM:-1100
TZOFFSETTO:-1100
TZNAME:SST
DTSTART:19700101T000000
END:STANDARD
END:VTIMEZONE
BEGIN:VEVENT
UID:3646443:Event:19566
DTSTAMP:20260421T234800Z
SUMMARY:Huron/Heartland Meeting Soil and Crop Improvement Association
DESCRIPTION: \n\nMorning Speakers and Plot Tour\nHorst Bohner and Dav
 e Hooker\nSoybean production issues for 2011: management to maximize y
 ield and economic returns\n\n\nChris Gilliard\n\nDry bean agronomy and
  pest management\n\n\nPeter Sikema\n\nHerbicide use in edible beans, R
 R corn and/or spring cereals\n\n\n\n\n \nAfternoon Discussion\nAll Ab
 out Biomass Crops by Nick Betts and Guests\n\nRepresentatives from Cas
 e IH, HJV, John Deere and New Holland will be there too!\n\n$10, inclu
 des lunch and coffee\n\n.\n\nPlease RSVP to Karen Jacobs if you wish t
 o attend: 519-662-1505 jacobsk@live.ca\n\n\nFor more information visit
  https://ontag.farms.com/events/huronheartland-meeting-soil
DTSTART;TZID=Pacific/Midway:20110708T100000
DTEND;TZID=Pacific/Midway:20110708T140000
CATEGORIES:meeting
LOCATION:Huron Research Farm
WEBSITE:http://tvrscia.files.wordpress.com/2011/06/hhm-flyer.pdf
URL:http://tvrscia.files.wordpress.com/2011/06/hhm-flyer.pdf
CONTACT:
ORGANIZER:SCIA
ATTACH;FMTTYPE="image/jpeg":
ATTENDEE;ROLE=REQ-PARTICIPANT;PARTSTAT=ACCEPTED;RSVP=TRUE;CN="OntAG Ad
 min":https://ontag.farms.com/profile/OntAGAdmin
END:VEVENT
END:VCALENDAR
