BEGIN:VCALENDAR
PRODID:NingEventWidget-v1
VERSION:2.0
METHOD:PUBLISH
BEGIN:VTIMEZONE
TZID:Pacific/Midway
X-LIC-LOCATION:Pacific/Midway
BEGIN:STANDARD
TZOFFSETFROM:-1100
TZOFFSETTO:-1100
TZNAME:SST
DTSTART:19700101T000000
END:STANDARD
END:VTIMEZONE
BEGIN:VEVENT
UID:3646443:Event:28496
DTSTAMP:20260421T100320Z
SUMMARY:IFAO Bus Tour to Illinois
DESCRIPTION:Innovative Farmers Association of Ontario Bus Tour\n \nMa
 rion Calmers  Seminar, Komatsu Mining Equipment, National Soybean Res
 earch Lab in Illinois\nVisit the IFAO website at http://www.ifao.com/
 IFAO-Bus-Tour-2012.html\nFor complete details, see the Bus Tour 2012 p
 rintable flyer.\n\nFor more information visit https://ontag.farms.com/
 events/ifao-bus-tour-to-marion-calmers
DTSTART;TZID=Pacific/Midway:20120103T000000
DTEND;TZID=Pacific/Midway:20120106T235900
CATEGORIES:bus, tour
LOCATION:Illinois
WEBSITE:http://www.ifao.com/IFAO-Bus-Tour-2012.html
URL:http://www.ifao.com/IFAO-Bus-Tour-2012.html
CONTACT:
ORGANIZER:Innovative Farmers Association of Ontario
ATTACH;FMTTYPE="image/jpeg":http://storage.ning.com/topology/rest/1.0/
 file/get/1091513082?profile=original
ATTENDEE;ROLE=REQ-PARTICIPANT;PARTSTAT=ACCEPTED;RSVP=TRUE;CN="OntAG Ad
 min":https://ontag.farms.com/profile/OntAGAdmin
END:VEVENT
END:VCALENDAR
