BEGIN:VCALENDAR
PRODID:NingEventWidget-v1
VERSION:2.0
METHOD:PUBLISH
BEGIN:VTIMEZONE
TZID:Pacific/Midway
X-LIC-LOCATION:Pacific/Midway
BEGIN:STANDARD
TZOFFSETFROM:-1100
TZOFFSETTO:-1100
TZNAME:SST
DTSTART:19700101T000000
END:STANDARD
END:VTIMEZONE
BEGIN:VEVENT
UID:3646443:Event:70170
DTSTAMP:20260422T200704Z
SUMMARY:IFAO Compaction Day
DESCRIPTION:The Innovative Farmers of Ontario are putting on a big fie
 ld day on compaction for Thursday September 7th east of Arthur Ontario
 . This is gearing up to be a great event anchored by Matthias Stettler
 , http://www.soilcompaction.eu/Contact.aspx , School of Agricutural, F
 orest and Food Sciences HAFL, Bern University of Applied Sciences, Swi
 tzerland  and well as OMAFRA demonstrations on soil compaction and ho
 w to prevent it. https://www.ifao.com/  This is going to be a great ev
 ent and like CompactionSmart this past winter, we want as many people 
 as possible to have a chance to learn from the demonstrations and disc
 ussion that will occur. Flyer-IFAO-Compaction-Day-Sept-7 Agenda-IFAO-C
 ompaction-Day-Sept-7  Cheers Ian McDonald  OMAFRA      519.239.3
 473 cell   Deanna Nemeth OMAFRA   519-827-6878 cell\r\n \r\n\r\n\r
 \n\r\n \r\n\r\n\r\n \n\nFor more information visit https://ontag.farm
 s.com/events/ifao-compaction-day
DTSTART;TZID=Pacific/Midway:20170907T083000
DTEND;TZID=Pacific/Midway:20170907T160000
CATEGORIES:compaction, day
LOCATION:Shawridge Farms Grain Elevator
WEBSITE:https://www.ifao.com/
URL:https://www.ifao.com/
CONTACT:519-986-3560
ORGANIZER:Innovative Farmers Association of Ontario
ATTACH;FMTTYPE="image/jpeg":http://storage.ning.com/topology/rest/1.0/
 file/get/1091548101?profile=original
ATTENDEE;ROLE=REQ-PARTICIPANT;PARTSTAT=ACCEPTED;RSVP=TRUE;CN="OntAG Ad
 min":https://ontag.farms.com/profile/OntAGAdmin
END:VEVENT
END:VCALENDAR
