BEGIN:VCALENDAR
PRODID:NingEventWidget-v1
VERSION:2.0
METHOD:PUBLISH
BEGIN:VTIMEZONE
TZID:Pacific/Midway
X-LIC-LOCATION:Pacific/Midway
BEGIN:STANDARD
TZOFFSETFROM:-1100
TZOFFSETTO:-1100
TZNAME:SST
DTSTART:19700101T000000
END:STANDARD
END:VTIMEZONE
BEGIN:VEVENT
UID:3646443:Event:80132
DTSTAMP:20260419T014006Z
SUMMARY:Improve Pig Survivability at Leman Swine Conference
DESCRIPTION:Join on Saturday, September 19, 2020, 10:30 am -12:30 pm. 
 Members of the project team will present research and extension projec
 ts from the Improving Pig Survivability Project. Register below for th
 e full conference to see our session. Link to pre-conference program H
 ERERegister for leman\n\nFor more information visit https://ontag.farm
 s.com/events/improve-pig-survivability-at-leman-swine-conference
DTSTART;TZID=Pacific/Midway:20200919T103000
DTEND;TZID=Pacific/Midway:20200919T123000
CATEGORIES:webinar
LOCATION:Online
WEBSITE:
URL:
CONTACT:
ORGANIZER:Iowa Pork Industry Center and Iowa Pork Producers Associatio
 n
ATTACH;FMTTYPE="image/jpeg":
ATTENDEE;ROLE=REQ-PARTICIPANT;PARTSTAT=ACCEPTED;RSVP=TRUE;CN="OntAG Ad
 min":https://ontag.farms.com/profile/OntAGAdmin
END:VEVENT
END:VCALENDAR
