BEGIN:VCALENDAR
PRODID:NingEventWidget-v1
VERSION:2.0
METHOD:PUBLISH
BEGIN:VTIMEZONE
TZID:Pacific/Midway
X-LIC-LOCATION:Pacific/Midway
BEGIN:STANDARD
TZOFFSETFROM:-1100
TZOFFSETTO:-1100
TZNAME:SST
DTSTART:19700101T000000
END:STANDARD
END:VTIMEZONE
BEGIN:VEVENT
UID:3646443:Event:65771
DTSTAMP:20260420T013141Z
SUMMARY:Inaugural Canadian Beef Industry Conference
DESCRIPTION:All beef industry stakeholders share a common goal of taki
 ng steps to enhance the productivity, profitability and competitivenes
 s of the various sectors within the industry. Supporting the National 
 Beef Strategy, the conference provides a forum for industry engagement
  and learning opportunities across the beef supply chain.\n\nFor more 
 information visit https://ontag.farms.com/events/inaugural-canadian-be
 ef-industry-conference
DTSTART;TZID=Pacific/Midway:20160809T000000
DTEND;TZID=Pacific/Midway:20160810T235900
CATEGORIES:conference
LOCATION:Grey Eagle Resort and Casino
WEBSITE:http://canadianbeefindustryconference.com
URL:http://canadianbeefindustryconference.com
CONTACT:
ORGANIZER:Canadian Beef Industry Conference
ATTACH;FMTTYPE="image/jpeg":http://storage.ning.com/topology/rest/1.0/
 file/get/1091544697?profile=original
ATTENDEE;ROLE=REQ-PARTICIPANT;PARTSTAT=ACCEPTED;RSVP=TRUE;CN="OntAG Ad
 min":https://ontag.farms.com/profile/OntAGAdmin
END:VEVENT
END:VCALENDAR
