BEGIN:VCALENDAR
PRODID:NingEventWidget-v1
VERSION:2.0
METHOD:PUBLISH
BEGIN:VTIMEZONE
TZID:Pacific/Midway
X-LIC-LOCATION:Pacific/Midway
BEGIN:STANDARD
TZOFFSETFROM:-1100
TZOFFSETTO:-1100
TZNAME:SST
DTSTART:19700101T000000
END:STANDARD
END:VTIMEZONE
BEGIN:VEVENT
UID:3646443:Event:76204
DTSTAMP:20260421T085235Z
SUMMARY:InfoAg International Conference & Exhibition Brazil
DESCRIPTION:InfoAg International The gateway for shaping the future of
  precision and digital Agriculture\r\n28-30 August 2019Royal Palm Hall
 ,Campinas, São Paulo State, Brazil\r\n\r\nPRECISION FARMING IS THE FU
 TURE OF AGRICULTURE. ARE YOU READY?\r\n\r\nGet the technology advancem
 ents, knowledge and contacts you need to join the Precision and Digita
 l Agriculture journey\r\n\r\nREGISTER TODAY! \r\nDOWNLOAD PROSPECTUS\
 n\nFor more information visit https://ontag.farms.com/events/infoag-in
 ternational-conference-exhibition-brazil
DTSTART;TZID=Pacific/Midway:20190828T000000
DTEND;TZID=Pacific/Midway:20190830T235900
CATEGORIES:farm, show, infoag, international
LOCATION:Royal Palm Hall
WEBSITE:https://www.google.com/maps/place/royal+palm+hall/@-22.9207463
 ,-47.1005487,14z/data=!4m8!1m2!2m1!1sRoyal+Palm+Hall,+Campinas,+S%C3%A
 3o+Paulo+State,+Brazil!3m4!1s0x94c8c92c0ec8e957:0xf0cea2267dd0221c!8m2
 !3d-22.9105495!4d-47.1097781
URL:https://www.google.com/maps/place/royal+palm+hall/@-22.9207463,-47
 .1005487,14z/data=!4m8!1m2!2m1!1sRoyal+Palm+Hall,+Campinas,+S%C3%A3o+P
 aulo+State,+Brazil!3m4!1s0x94c8c92c0ec8e957:0xf0cea2267dd0221c!8m2!3d-
 22.9105495!4d-47.1097781
CONTACT:+44 (0)20 7017 7742
ORGANIZER:NewAgInternational
ATTACH;FMTTYPE="image/jpeg":https://storage.ning.com/topology/rest/1.0
 /file/get/3300624226?profile=original
ATTENDEE;ROLE=REQ-PARTICIPANT;PARTSTAT=ACCEPTED;RSVP=TRUE;CN="OntAG Ad
 min":https://ontag.farms.com/profile/OntAGAdmin
END:VEVENT
END:VCALENDAR
