BEGIN:VCALENDAR
PRODID:NingEventWidget-v1
VERSION:2.0
METHOD:PUBLISH
BEGIN:VTIMEZONE
TZID:Pacific/Midway
X-LIC-LOCATION:Pacific/Midway
BEGIN:STANDARD
TZOFFSETFROM:-1100
TZOFFSETTO:-1100
TZNAME:SST
DTSTART:19700101T000000
END:STANDARD
END:VTIMEZONE
BEGIN:VEVENT
UID:3646443:Event:77377
DTSTAMP:20260421T154743Z
SUMMARY:Innovative Farmers Association of Ontario Conference
DESCRIPTION:Innovative Farmers Association of Ontario Conference will 
 highlight areas like advanced soil health cropping systems, cover crop
 s to control Canada fleabane, equipment modifications & tweaks, the Br
 azilian experience with bacterially based inoculants, farm employees -
  making it work for everyone, and much more.Speaker details to be anno
 unced soon...\n\nFor more information visit https://ontag.farms.com/ev
 ents/innovative-farmers-association-of-ontario-conference
DTSTART;TZID=Pacific/Midway:20191019T090000
DTEND;TZID=Pacific/Midway:20191020T180000
CATEGORIES:conference
LOCATION:Best Western Plus Lamplighter Inn &amp; Conference Centre
WEBSITE:https://www.ifao.com/
URL:https://www.ifao.com/
CONTACT:
ORGANIZER:Innovative Farmers of Ontario
ATTACH;FMTTYPE="image/jpeg":
ATTENDEE;ROLE=REQ-PARTICIPANT;PARTSTAT=ACCEPTED;RSVP=TRUE;CN="OntAG Ad
 min":https://ontag.farms.com/profile/OntAGAdmin
END:VEVENT
END:VCALENDAR
