BEGIN:VCALENDAR
PRODID:NingEventWidget-v1
VERSION:2.0
METHOD:PUBLISH
BEGIN:VTIMEZONE
TZID:Pacific/Midway
X-LIC-LOCATION:Pacific/Midway
BEGIN:STANDARD
TZOFFSETFROM:-1100
TZOFFSETTO:-1100
TZNAME:SST
DTSTART:19700101T000000
END:STANDARD
END:VTIMEZONE
BEGIN:VEVENT
UID:3646443:Event:7989
DTSTAMP:20260421T010231Z
SUMMARY:Innovative Farmers Conference 2011
DESCRIPTION:Innovative Farmers Association of Ontario\n\nFor more info
 rmation visit https://ontag.farms.com/events/innovative-farmers-confer
 ence
DTSTART;TZID=Pacific/Midway:20110223T000000
DTEND;TZID=Pacific/Midway:20110224T235900
CATEGORIES:ag, conference
LOCATION:Best Western Lamplighter Inn
WEBSITE:http://www.ifao.com
URL:http://www.ifao.com
CONTACT:519 986 3560
ORGANIZER:Carrie James, Sonke Claussen
ATTACH;FMTTYPE="image/jpeg":
ATTENDEE;ROLE=REQ-PARTICIPANT;PARTSTAT=ACCEPTED;RSVP=TRUE;CN="Sonke Cl
 aussen":https://ontag.farms.com/profile/SonkeClaussen
END:VEVENT
END:VCALENDAR
