BEGIN:VCALENDAR
PRODID:NingEventWidget-v1
VERSION:2.0
METHOD:PUBLISH
BEGIN:VTIMEZONE
TZID:Pacific/Midway
X-LIC-LOCATION:Pacific/Midway
BEGIN:STANDARD
TZOFFSETFROM:-1100
TZOFFSETTO:-1100
TZNAME:SST
DTSTART:19700101T000000
END:STANDARD
END:VTIMEZONE
BEGIN:VEVENT
UID:3646443:Event:65098
DTSTAMP:20260420T201110Z
SUMMARY:Interested in key agronomy insights? Visit DuPont Pioneer at t
 he London Farm Show
DESCRIPTION:\n\n\nFor more information visit https://ontag.farms.com/e
 vents/interested-in-key-agronomy-insights-visit-dupont-pioneer-at-the-
 l
DTSTART;TZID=Pacific/Midway:20160302T180000
DTEND;TZID=Pacific/Midway:20160304T190000
CATEGORIES:agronomy, event, at, the, london, farm, show
LOCATION:London Farm Show, Agriplex at the Western Fair Grounds
WEBSITE:http://www.westernfairdistrict.com/london-farm-show
URL:http://www.westernfairdistrict.com/london-farm-show
CONTACT:
ORGANIZER:DuPont Pioneer
ATTACH;FMTTYPE="image/jpeg":http://storage.ning.com/topology/rest/1.0/
 file/get/1091543030?profile=original
ATTENDEE;ROLE=REQ-PARTICIPANT;PARTSTAT=ACCEPTED;RSVP=TRUE;CN="OntAG Ad
 min":https://ontag.farms.com/profile/OntAGAdmin
END:VEVENT
END:VCALENDAR
