BEGIN:VCALENDAR
PRODID:NingEventWidget-v1
VERSION:2.0
METHOD:PUBLISH
BEGIN:VTIMEZONE
TZID:Pacific/Midway
X-LIC-LOCATION:Pacific/Midway
BEGIN:STANDARD
TZOFFSETFROM:-1100
TZOFFSETTO:-1100
TZNAME:SST
DTSTART:19700101T000000
END:STANDARD
END:VTIMEZONE
BEGIN:VEVENT
UID:3646443:Event:53166
DTSTAMP:20260422T154417Z
SUMMARY:International Plowing Match and Rural Expo
DESCRIPTION:Join us in Ivy for the 2014 International Plowing Match an
 d Rural Expo! Simcoe County – Ivy, Ontario   \nTuesday September 
 16 – Saturday September 20, 2014\n8:30am - 5:00pm Daily\nClick on th
 e icon for the schedule of events:\n\n \n\nFor more information visit 
 https://ontag.farms.com/events/international-plowing-match-and-rural-e
 xpo
DTSTART;TZID=Pacific/Midway:20140916T000000
DTEND;TZID=Pacific/Midway:20140920T235900
CATEGORIES:farm, show
LOCATION:Simcoe County
WEBSITE:http://www.plowingmatch.org/index.php/home-2014
URL:http://www.plowingmatch.org/index.php/home-2014
CONTACT:
ORGANIZER;CN="OntAG Admin":https://ontag.farms.com/profile/OntAGAdmin
ATTACH;FMTTYPE="image/jpeg":http://storage.ning.com/topology/rest/1.0/
 file/get/1091524426?profile=original
ATTENDEE;ROLE=REQ-PARTICIPANT;PARTSTAT=ACCEPTED;RSVP=TRUE;CN="OntAG Ad
 min":https://ontag.farms.com/profile/OntAGAdmin
END:VEVENT
END:VCALENDAR
