BEGIN:VCALENDAR
PRODID:NingEventWidget-v1
VERSION:2.0
METHOD:PUBLISH
BEGIN:VTIMEZONE
TZID:Pacific/Midway
X-LIC-LOCATION:Pacific/Midway
BEGIN:STANDARD
TZOFFSETFROM:-1100
TZOFFSETTO:-1100
TZNAME:SST
DTSTART:19700101T000000
END:STANDARD
END:VTIMEZONE
BEGIN:VEVENT
UID:3646443:Event:32941
DTSTAMP:20260421T122425Z
SUMMARY:Introducing the \"All Equine Show\" Coming March 2013
DESCRIPTION:NEW Show!\nThe All Equine Show is a show dedicated to anyo
 ne in the Equine industry. \nEducational and Interactive\nThere are p
 lenty of learning opportunities in this tradeshow through industry exp
 erts, clinics and interactive, educational displays.\n\nFeaturing:\n\n
 Extensive booth displays of local businesses\nTop clinicians on site\n
 Equine dentistry\nEquine massage\nFerrier - Hoof Care\nTrailering & lo
 ading\nStabling & fencing\nNutrition seminars\nPasture management\nHor
 se selection & confirmation\nFashion shows\n\n \n\"All Equine\" Enter
 tainment\n\n\nBe sure to attend:\n\nThe Equine Gala featuring the \"Ev
 olution of the Horse\" | Saturday @ 7pm & Sunday @ 3pm\nThe Junior rod
 eo showdown\nBarrel racing and other timed events\nTrick roping demons
 trations\n\n \nDates & Times\nFriday, March 15 | 12pm - 9pm\nSaturday
 , March 16 | 10am - 7pm\nSunday, March 17 | 10am - 5pm\n \nGet Social
  at the Show!\n  /WesternFairDistrict   #AllEquine\nLocation\nAgrip
 lex Building 845 Florence St., London, Ontario\nClick here for directi
 ons to Western Fair District \nParking\nFREE!\n\nFor more informatio
 n visit https://ontag.farms.com/events/introducing-the-all-equine-show
DTSTART;TZID=Pacific/Midway:20130315T000000
DTEND;TZID=Pacific/Midway:20130317T235900
CATEGORIES:equine, show
LOCATION:Western Fair District Agriplex
WEBSITE:http://www.westernfairdistrict.com/events/attend/2013_All_Equi
 ne?utm_source=eblast_July11&utm_medium=email&utm_campaign=All%2BEquine
URL:http://www.westernfairdistrict.com/events/attend/2013_All_Equine?u
 tm_source=eblast_July11&utm_medium=email&utm_campaign=All%2BEquine
CONTACT:
ORGANIZER:Western Fair District
ATTACH;FMTTYPE="image/jpeg":http://storage.ning.com/topology/rest/1.0/
 file/get/1091517728?profile=original
ATTENDEE;ROLE=REQ-PARTICIPANT;PARTSTAT=ACCEPTED;RSVP=TRUE;CN=Roadrunne
 r:https://ontag.farms.com/profile/Roadrunner
ATTENDEE;ROLE=REQ-PARTICIPANT;PARTSTAT=ACCEPTED;RSVP=TRUE;CN="Joe Dale
 s":https://ontag.farms.com/profile/JoeDales
ATTENDEE;ROLE=REQ-PARTICIPANT;PARTSTAT=ACCEPTED;RSVP=TRUE;CN="OntAG Ad
 min":https://ontag.farms.com/profile/OntAGAdmin
END:VEVENT
END:VCALENDAR
