BEGIN:VCALENDAR
PRODID:NingEventWidget-v1
VERSION:2.0
METHOD:PUBLISH
BEGIN:VTIMEZONE
TZID:Pacific/Midway
X-LIC-LOCATION:Pacific/Midway
BEGIN:STANDARD
TZOFFSETFROM:-1100
TZOFFSETTO:-1100
TZNAME:SST
DTSTART:19700101T000000
END:STANDARD
END:VTIMEZONE
BEGIN:VEVENT
UID:3646443:Event:68064
DTSTAMP:20260422T180518Z
SUMMARY:Introduction to Organic Market Gardening
DESCRIPTION:Are you interested in starting a small scale organic marke
 t garden operation, or are you interested in organic vegetable gardeni
 ng for personal use? If so, please join Amy and Patrick Kitchen from S
 ideroad Farm to learn about the ins and outs of organic market gardeni
 ng.Â  They will cover: site selection; soil types; fertilizing and tak
 ing care of soil; crop selection and planning; crop rotation; pest man
 agement; irrigation; equipment and tools; direct marketing; and start-
 up costs.\nWhen?Â Â Â Â Â  Sat. Feb. 4, 2017, 1:30 to 4:00 pm\nCost?Â 
 Â Â Â Â Â Â  $10.00 per person\nPre-Register By: Mon. Jan. 30, 2017\nÂ
  \n\nFor more information visit https://ontag.farms.com/events/introdu
 ction-to-organic-market-gardening
DTSTART;TZID=Pacific/Midway:20170204T133000
DTEND;TZID=Pacific/Midway:20170204T160000
CATEGORIES:course
LOCATION:Grey County Agricultural Services Centre Boardroom
WEBSITE:http://www.greyagservices.ca/index.php/grey-agricultural-servi
 ces/winter-course-registration
URL:http://www.greyagservices.ca/index.php/grey-agricultural-services/
 winter-course-registration
CONTACT:519 986-3756
ORGANIZER:Grey County Agricultural Services Centre
ATTACH;FMTTYPE="image/jpeg":http://storage.ning.com/topology/rest/1.0/
 file/get/1091545771?profile=original
ATTENDEE;ROLE=REQ-PARTICIPANT;PARTSTAT=ACCEPTED;RSVP=TRUE;CN="Grey Bru
 ce Farmers' Week":https://ontag.farms.com/profile/GreyBruceFarmersWeek
END:VEVENT
END:VCALENDAR
