BEGIN:VCALENDAR
PRODID:NingEventWidget-v1
VERSION:2.0
METHOD:PUBLISH
BEGIN:VTIMEZONE
TZID:Pacific/Midway
X-LIC-LOCATION:Pacific/Midway
BEGIN:STANDARD
TZOFFSETFROM:-1100
TZOFFSETTO:-1100
TZNAME:SST
DTSTART:19700101T000000
END:STANDARD
END:VTIMEZONE
BEGIN:VEVENT
UID:3646443:Event:6623
DTSTAMP:20260420T195405Z
SUMMARY:Introduction to Pest Management for Season Extension (GLVWG)
DESCRIPTION:Webinar\nRegistration $30 (1 of 5 part webinar series)\nRe
 gister: http://www.surveymonkey.com/s/season_ext\nNovember 1, 2010 - 6
 :30 - 8:30 pm EST (5:30 - 7:30 p.m. CST)\n6:30 p.m . Overview of Seaso
 n Extension Methods\n- Speaker - Bill LaMont - Penn State University\n
 7:00 p.m. -Basic Pest Management Considerations of Insects & mites in 
 High Tunnels\n- Speaker: Judson Reid - Cornell University\n7:30 p.m. -
  Basic Pest Management Considerations of Diseases in High Tunnels\n- S
 peaker : Meg McGrath - Cornell University\n8:00 p.m.- Basic Pest Manag
 ement Considerations of Weeds in High Tunnels\n- Speaker - Brad Bergef
 urd - Ohio State University\n\nFor more information visit https://onta
 g.farms.com/events/introduction-to-pest
DTSTART;TZID=Pacific/Midway:20101101T183000
DTEND;TZID=Pacific/Midway:20101101T203000
CATEGORIES:webinar
LOCATION:Webinar
WEBSITE:http://glvwg.ag.ohio-state.edu/projects.php?PHPSESSID=0aadb28f
 b8e2e8384b3b03f8be81ce34#seasonextension
URL:http://glvwg.ag.ohio-state.edu/projects.php?PHPSESSID=0aadb28fb8e2
 e8384b3b03f8be81ce34#seasonextension
CONTACT:Contact for Ontario:  Janice LeBoeuf (janice.leboeuf@ontario.c
 a)
ORGANIZER:Great Lakes Vegetable Working Group
ATTACH;FMTTYPE="image/jpeg":
ATTENDEE;ROLE=REQ-PARTICIPANT;PARTSTAT=ACCEPTED;RSVP=TRUE;CN=ontarioto
 mato:https://ontag.farms.com/profile/ontariotomato
END:VEVENT
END:VCALENDAR
