BEGIN:VCALENDAR
PRODID:NingEventWidget-v1
VERSION:2.0
METHOD:PUBLISH
BEGIN:VTIMEZONE
TZID:Pacific/Midway
X-LIC-LOCATION:Pacific/Midway
BEGIN:STANDARD
TZOFFSETFROM:-1100
TZOFFSETTO:-1100
TZNAME:SST
DTSTART:19700101T000000
END:STANDARD
END:VTIMEZONE
BEGIN:VEVENT
UID:3646443:Event:72815
DTSTAMP:20260423T003725Z
SUMMARY:Introduction to Small Ruminants
DESCRIPTION:Facilitators: Delma Kennedy and Jillian Craig, OMAFRA\nThe
  course is targeted for people interested in, or thinking about, getti
 ng started in either sheep or goat production. This basic course will 
 focus on four key components: An overview of sheep and goat farming in
  Ontario; Production requirements; Processing, marketing and economics
 ; and a local farm tour. The course will be mainly an ‘in class’ s
 ession followed by a tour of a working meat sheep farm. The course wil
 l be offered by Delma Kennedy, Sheep Specialist and Jillian Craig, Sma
 ll Ruminant Specialist, with OMAFRA, and hosted by Grey Ag Services. C
 ost includes USB resource key, hot lunch, farm tour and much more. Tim
 e: 9:00 am to 4:30 pm Cost: $75 per person. Course will be held at: Gr
 ey County Agricultural Services Centre 206 Toronto St. South, Unit 3 M
 arkdale, ON N0C 1H0 on Saturday, April 14, 2018 Phone: 519-986-3756 Fa
 x: 519-986-2643 Email: info@greyagservices.ca Website: www.greyagservi
 ces.ca To Register: Call 519-986-3756 Pre-Register by: Fri. Apr. 6, 20
 18\n\nFor more information visit https://ontag.farms.com/events/introd
 uction-to-small-ruminants
DTSTART;TZID=Pacific/Midway:20180414T090000
DTEND;TZID=Pacific/Midway:20180414T163000
CATEGORIES:course
LOCATION:Grey Ag Services Boardroom
WEBSITE:http://www.greyagservices.ca/index.php/grey-agricultural-servi
 ces/contact-us
URL:http://www.greyagservices.ca/index.php/grey-agricultural-services/
 contact-us
CONTACT:519 986-3756
ORGANIZER:Grey County Agricultural Services Centre
ATTACH;FMTTYPE="image/jpeg":http://storage.ning.com/topology/rest/1.0/
 file/get/1091551780?profile=original
ATTENDEE;ROLE=REQ-PARTICIPANT;PARTSTAT=ACCEPTED;RSVP=TRUE;CN="Grey Bru
 ce Farmers' Week":https://ontag.farms.com/profile/GreyBruceFarmersWeek
END:VEVENT
END:VCALENDAR
