BEGIN:VCALENDAR
PRODID:NingEventWidget-v1
VERSION:2.0
METHOD:PUBLISH
BEGIN:VTIMEZONE
TZID:Pacific/Midway
X-LIC-LOCATION:Pacific/Midway
BEGIN:STANDARD
TZOFFSETFROM:-1100
TZOFFSETTO:-1100
TZNAME:SST
DTSTART:19700101T000000
END:STANDARD
END:VTIMEZONE
BEGIN:VEVENT
UID:3646443:Event:59407
DTSTAMP:20260420T152250Z
SUMMARY:JFAO Winter Workshop, January 17th in Woodstock
DESCRIPTION:\n\nFor more information visit https://ontag.farms.com/eve
 nts/jfao-winter-workshop-january-17th-in-woodstock
DTSTART;TZID=Pacific/Midway:20150117T000000
DTEND;TZID=Pacific/Midway:20150117T235900
CATEGORIES:workshop
LOCATION:Woodstock
WEBSITE:http://jfao.on.ca
URL:http://jfao.on.ca
CONTACT:membership@jfao.on.ca
ORGANIZER:Junior Farmers' Association of Ontario
ATTACH;FMTTYPE="image/jpeg":
ATTENDEE;ROLE=REQ-PARTICIPANT;PARTSTAT=ACCEPTED;RSVP=TRUE;CN="OntAG Ad
 min":https://ontag.farms.com/profile/OntAGAdmin
END:VEVENT
END:VCALENDAR
