BEGIN:VCALENDAR
PRODID:NingEventWidget-v1
VERSION:2.0
METHOD:PUBLISH
BEGIN:VTIMEZONE
TZID:Pacific/Midway
X-LIC-LOCATION:Pacific/Midway
BEGIN:STANDARD
TZOFFSETFROM:-1100
TZOFFSETTO:-1100
TZNAME:SST
DTSTART:19700101T000000
END:STANDARD
END:VTIMEZONE
BEGIN:VEVENT
UID:3646443:Event:113423
DTSTAMP:20260419T163806Z
SUMMARY:Kemptville college Alumni Reunion
DESCRIPTION:The Alumni Board is preparing for annual reunion on Saturd
 ay, August 17th, 2024. It will be held at the Lombardy Agricultural So
 ciety Fairgrounds, 7 Kellys Road, Smiths Falls (just off Hwy 15), wher
 e Kemptville College Alumni Historical building has been constructed.\
 r\nMoney raised from the auctions will go towards the Scholarship Fund
 . Donations are always welcome to support Alumni Operating costs & Fun
 ctions.\r\nAll Donations will be receipted at the reunion.\r\nNo meal 
 tickets sold on the day of the reunion\r\n10:00 am Registration Opens1
 1:30 am to 1:00 pm Lunch1:30 pm Annual General MeetingLocal Attraction
 s: Railway Museum of Eastern Ontario: Smiths Falls Heritage Museum; Ri
 deau Canal Visitor Centre\r\nEnjoy visiting with your classmates after
  the Annual meeting!4:00 pm to 5:00 pm Social Hour in Hall5:00 pm Dinn
 er4:00 pm to 8:00 pm Photographer for pictures: $20 per photoSpirit Aw
 ard Silent & Live Auction Social Time after Dinner2024 Registration Fo
 rm\r\n\n\nFor more information visit https://ontag.farms.com/events/ke
 mptville-college-alumni-reunion
DTSTART;TZID=Pacific/Midway:20240817T100000
DTEND;TZID=Pacific/Midway:20240817T190000
CATEGORIES:alumni, reunion
LOCATION:Lombardy Agricultural Society Fairgrounds
WEBSITE:https://kcalumni.ca/reunion/
URL:https://kcalumni.ca/reunion/
CONTACT:613-774-5543 (H) or 613-913-5543 (C)
ORGANIZER:The Alumni Board
ATTACH;FMTTYPE="image/jpeg":https://storage.ning.com/topology/rest/1.0
 /file/get/12430122066?profile=original
ATTENDEE;ROLE=REQ-PARTICIPANT;PARTSTAT=ACCEPTED;RSVP=TRUE;CN="OntAG Ad
 min":https://ontag.farms.com/profile/OntAGAdmin
END:VEVENT
END:VCALENDAR
