BEGIN:VCALENDAR
PRODID:NingEventWidget-v1
VERSION:2.0
METHOD:PUBLISH
BEGIN:VTIMEZONE
TZID:Pacific/Midway
X-LIC-LOCATION:Pacific/Midway
BEGIN:STANDARD
TZOFFSETFROM:-1100
TZOFFSETTO:-1100
TZNAME:SST
DTSTART:19700101T000000
END:STANDARD
END:VTIMEZONE
BEGIN:VEVENT
UID:3646443:Event:39634
DTSTAMP:20260421T073501Z
SUMMARY:Kemptville - Growing Forward 2 Information Session
DESCRIPTION:This session will Provide information on the Growing Forwa
 rd 2 program, a comprehensive federal-provincial-territorial framework
  Aimed at Encouraging innovation, compétitivité and market developme
 nt in Canada's agri-food and agri-products sector. The Anticipated pa
 rticipants will be Ontario producteurs, processors, and organizations 
 / collaborations. session will be The hosted by Ontario Soil and Crop
  Improvement Association and Ontario Ministry of Agriculture and Food 
 / Ministry of Rural Affairs - Rural Programs Branch.   During this br
 iefing, information will be provided about the Growing Forward 2, a co
 mprehensive strategic framework, federal-provincial-territorial, to pr
 omote innovation, competitiveness and the development of markets for C
 anadian agri-food sector and agricultural products.\nThe briefing is a
 imed at producers, processing companies, organizations and partnership
 s in Ontario of the environment. \nThe session will be organized by t
 he Association for soil and crops in Ontario and the Ministry of Agric
 ulture and Food and the Ontario Ministry of Rural Affairs - Programs D
 irectorate rural communities.\n   \n\nFor more information visit htt
 ps://ontag.farms.com/events/kemptville-growing-forward-2-information-s
 ession
DTSTART;TZID=Pacific/Midway:20130605T013000
DTEND;TZID=Pacific/Midway:20130605T033000
CATEGORIES:information, session
LOCATION:Kemptville College
WEBSITE:http://www.registration.wildapricot.org/GF2Information?eventId
 =661891&EventViewMode=EventDetails
URL:http://www.registration.wildapricot.org/GF2Information?eventId=661
 891&EventViewMode=EventDetails
CONTACT:
ORGANIZER:OMAF
ATTACH;FMTTYPE="image/jpeg":http://storage.ning.com/topology/rest/1.0/
 file/get/1091519562?profile=original
ATTENDEE;ROLE=REQ-PARTICIPANT;PARTSTAT=ACCEPTED;RSVP=TRUE;CN="OntAG Ad
 min":https://ontag.farms.com/profile/OntAGAdmin
END:VEVENT
END:VCALENDAR
