BEGIN:VCALENDAR
PRODID:NingEventWidget-v1
VERSION:2.0
METHOD:PUBLISH
BEGIN:VTIMEZONE
TZID:Pacific/Midway
X-LIC-LOCATION:Pacific/Midway
BEGIN:STANDARD
TZOFFSETFROM:-1100
TZOFFSETTO:-1100
TZNAME:SST
DTSTART:19700101T000000
END:STANDARD
END:VTIMEZONE
BEGIN:VEVENT
UID:3646443:Event:79470
DTSTAMP:20260422T224001Z
SUMMARY:Legal Rights and Responsibilities for Employers webinar
DESCRIPTION:Main topics:\r\n\r\nEmployers legal expectations to protec
 t employees\r\nWhat is a “due diligence” requirement for employee 
 accommodations\r\nManaging your risk with migrant workers – special 
 requirements, and actions to consider\r\nSupports for employers to aid
  in understanding legal rights\r\nOutline steps if COVID outbreak occu
 rs on your farm – who to call, how to get help for employers \r\n\r
 \nTo register please contact trish.opic@gmail.com\r\nWebinar login de
 tails will be provided after registration.\n\nFor more information vis
 it https://ontag.farms.com/events/legal-rights-and-responsibilities-fo
 r-employers-webinar
DTSTART;TZID=Pacific/Midway:20200810T150000
DTEND;TZID=Pacific/Midway:20200810T160000
CATEGORIES:webinar
LOCATION:Online
WEBSITE:https://www.opic.on.ca/levels-membership-form
URL:https://www.opic.on.ca/levels-membership-form
CONTACT:519-674-1542
ORGANIZER:OPIC
ATTACH;FMTTYPE="image/jpeg":
ATTENDEE;ROLE=REQ-PARTICIPANT;PARTSTAT=ACCEPTED;RSVP=TRUE;CN="OntAG Ad
 min":https://ontag.farms.com/profile/OntAGAdmin
END:VEVENT
END:VCALENDAR
