BEGIN:VCALENDAR
PRODID:NingEventWidget-v1
VERSION:2.0
METHOD:PUBLISH
BEGIN:VTIMEZONE
TZID:Pacific/Midway
X-LIC-LOCATION:Pacific/Midway
BEGIN:STANDARD
TZOFFSETFROM:-1100
TZOFFSETTO:-1100
TZNAME:SST
DTSTART:19700101T000000
END:STANDARD
END:VTIMEZONE
BEGIN:VEVENT
UID:3646443:Event:43005
DTSTAMP:20260424T150851Z
SUMMARY:LEMKEN Field Day
DESCRIPTION:LEMKEN Field Day Showcases New One-Pass high speed Tillage
  and Seeding combination as well as other new cultivation and ploughin
 g options for Ontario GrowersLEMKEN CANADA is holding its first Field 
 Day for Ontario growers southwest of Mitchell on August 9th unveiling 
 new equipment innovations that can transform a field from stubble to a
  planted crop in just one pass.Ontario growers are already familiar wi
 th LEMKEN’s RUBIN compact-disc, which has proven to be popular acros
 s Canada as a one-pass tillage tool. LEMKEN Canada’s Ontario Sales r
 epresentative, Jim Docking expects growers will be excited by the new 
 LEMKEN equipment - especially the HELIODOR compact disc, SOLITAIR air 
 seeder and VARIOPACK front furrow press combination.“The VARIOPACK i
 s a furrow press that attaches to the front of the tractor which crumb
 les clods of soil and creates a level surface,” says Docking. “The
 n the HELIODOR compact-disc levels and cultivates and the SOLITAIR air
  seeder comes behind and seeds, so all of the tillage and seeding oper
 ations are done in one single pass.”\"Going from stubble to a plante
 d field in one pass at 8 mph or more isn’t something Ontario growers
  are used to seeing,\" says Docking, who thinks interest will be high 
 because of the agronomic and economic advantages the LEMKEN one-pass s
 ystem provides. “Planting timeframes can be tight,” he says. “If
  you’re able to prepare and plant a lot of acres by combining your o
 perations into a single pass, you can take advantage of the best plant
 ing conditions and increase returns by reducing fuel and labour costs.
 ”Growers will have the opportunity to see the LEMKEN equipment in ac
 tion with demonstrations throughout the day. A LEMKEN training special
 ist from Germany, Lena Skowronek, will be on hand to offer information
  and answer producers’ questions.Also demonstrated will be the JUWEL
  8 VT mounted and DIAMANT 11 VT semi-mounted ploughs, the KRISTALL tin
 e cultivator and ZIRKON power harrow. “It should be an interesting e
 vent for any growers interested in innovative tillage and planting pra
 ctices, says Docking.The LEMKEN Field Day will be held at Jim Docking 
 farm - 6693 26 Line, Staffa, Ontario from 10 a.m. to 4 p.m. on August 
 9th, with a rain date of August 10th. Lunch is provided and growers in
 terested in attending can e-mail canada@lemken.com or call Jim (519) 2
 74-4377 to RSVP or confirm the date in the event of poor weather. Prin
 t a map by going to http://goo.gl/maps/NNLgP\n\nFor more information v
 isit https://ontag.farms.com/events/lemken-field-day
DTSTART;TZID=Pacific/Midway:20130809T100000
DTEND;TZID=Pacific/Midway:20130809T160000
CATEGORIES:field, day, farm, equipment
LOCATION:Staffa
WEBSITE:http://goo.gl/maps/NNLgP
URL:http://goo.gl/maps/NNLgP
CONTACT:519-274-4377
ORGANIZER;CN="LEMKEN Canada Inc.":https://ontag.farms.com/profile/LEMK
 ENCanadaInc
ATTACH;FMTTYPE="image/jpeg":http://storage.ning.com/topology/rest/1.0/
 file/get/1091518901?profile=original
ATTENDEE;ROLE=REQ-PARTICIPANT;PARTSTAT=ACCEPTED;RSVP=TRUE;CN="LEMKEN C
 anada Inc.":https://ontag.farms.com/profile/LEMKENCanadaInc
ATTENDEE;ROLE=REQ-PARTICIPANT;PARTSTAT=ACCEPTED;RSVP=TRUE;CN="OntAG Ad
 min":https://ontag.farms.com/profile/OntAGAdmin
ATTENDEE;ROLE=REQ-PARTICIPANT;PARTSTAT=ACCEPTED;RSVP=TRUE;CN="Scott Fa
 rhood":https://ontag.farms.com/profile/ScottFarhood
END:VEVENT
END:VCALENDAR
