BEGIN:VCALENDAR
PRODID:NingEventWidget-v1
VERSION:2.0
METHOD:PUBLISH
BEGIN:VTIMEZONE
TZID:Pacific/Midway
X-LIC-LOCATION:Pacific/Midway
BEGIN:STANDARD
TZOFFSETFROM:-1100
TZOFFSETTO:-1100
TZNAME:SST
DTSTART:19700101T000000
END:STANDARD
END:VTIMEZONE
BEGIN:VEVENT
UID:3646443:Event:4963
DTSTAMP:20260421T162633Z
SUMMARY:Lettuce, Celery, Onions and Carrots
DESCRIPTION:Lunch on your own\nCD provided\nNote: have to pay for park
 ing\n\nFor more information visit https://ontag.farms.com/events/lettu
 ce-celery-onions-and
DTSTART;TZID=Pacific/Midway:20100520T090000
DTEND;TZID=Pacific/Midway:20100520T160000
CATEGORIES:workshop
LOCATION:OMAFRA - Guelph - Conference Room 407
WEBSITE:
URL:
CONTACT:613-475-5850
ORGANIZER:Workshop Leader - to be announced
ATTACH;FMTTYPE="image/jpeg":
ATTENDEE;ROLE=REQ-PARTICIPANT;PARTSTAT=ACCEPTED;RSVP=TRUE;CN=ontarioto
 mato:https://ontag.farms.com/profile/ontariotomato
END:VEVENT
END:VCALENDAR
