BEGIN:VCALENDAR
PRODID:NingEventWidget-v1
VERSION:2.0
METHOD:PUBLISH
BEGIN:VTIMEZONE
TZID:Pacific/Midway
X-LIC-LOCATION:Pacific/Midway
BEGIN:STANDARD
TZOFFSETFROM:-1100
TZOFFSETTO:-1100
TZNAME:SST
DTSTART:19700101T000000
END:STANDARD
END:VTIMEZONE
BEGIN:VEVENT
UID:3646443:Event:4981
DTSTAMP:20260423T055533Z
SUMMARY:Liberal Party of Canada   Rural Canada Matters - Online town h
 all
DESCRIPTION:Liberal Party of Canada\n\nRural Canada Matters - Online t
 own hall / Le Canada rural, ça compte - Assemblée publique\n\nDate: 
 Wednesday May 5, 2010\nTime: 3:30PM EDT\n\nVISIT THE WEBSITE http://ww
 w.liberal.ca/ruralcanadamatters\n\nFor more information visit https://
 ontag.farms.com/events/liberal-party-of-canada
DTSTART;TZID=Pacific/Midway:20100505T153000
DTEND;TZID=Pacific/Midway:20100505T170000
CATEGORIES:townhall
LOCATION:Online
WEBSITE:http://www.liberal.ca/ruralcanadamatters
URL:http://www.liberal.ca/ruralcanadamatters
CONTACT:
ORGANIZER:Liberal Party of Canada
ATTACH;FMTTYPE="image/jpeg":http://storage.ning.com/topology/rest/1.0/
 file/get/1091504946?profile=original
ATTENDEE;ROLE=REQ-PARTICIPANT;PARTSTAT=ACCEPTED;RSVP=TRUE;CN=AgOntario
 :https://ontag.farms.com/profile/AgOntario
END:VEVENT
END:VCALENDAR
