BEGIN:VCALENDAR
PRODID:NingEventWidget-v1
VERSION:2.0
METHOD:PUBLISH
BEGIN:VTIMEZONE
TZID:Pacific/Midway
X-LIC-LOCATION:Pacific/Midway
BEGIN:STANDARD
TZOFFSETFROM:-1100
TZOFFSETTO:-1100
TZNAME:SST
DTSTART:19700101T000000
END:STANDARD
END:VTIMEZONE
BEGIN:VEVENT
UID:3646443:Event:79467
DTSTAMP:20260422T223829Z
SUMMARY:Livestock and heat stress - feed interventions for summer webi
 nar
DESCRIPTION:The webinar will feature animal nutrition researcher Sohei
 l Varasteh and will share how proper feed interventions can help:\r\n\
 r\nMitigate the adverse effects of heat stress\r\nMaintain oxidative b
 alance during summer heat\r\nDecrease financial losses associated with
  heat stress\r\n\r\nFollowing is a link to register: https://register
 .gotowebinar.com/rt/2388392551472410638\r\nParticipants will also have
  an opportunity to ask questions during the webinar. We hope you’ll 
 join us on the 30th.  \n\nFor more information visit https://ontag.far
 ms.com/events/livestock-and-heat-stress-feed-interventions-for-summer-
 webinar-j
DTSTART;TZID=Pacific/Midway:20200730T100000
DTEND;TZID=Pacific/Midway:20200730T110000
CATEGORIES:webinar
LOCATION:Online
WEBSITE:https://register.gotowebinar.com/rt/2388392551472410638
URL:https://register.gotowebinar.com/rt/2388392551472410638
CONTACT:
ORGANIZER:Trouw Nutrition
ATTACH;FMTTYPE="image/jpeg":
ATTENDEE;ROLE=REQ-PARTICIPANT;PARTSTAT=ACCEPTED;RSVP=TRUE;CN="OntAG Ad
 min":https://ontag.farms.com/profile/OntAGAdmin
END:VEVENT
END:VCALENDAR
