BEGIN:VCALENDAR
PRODID:NingEventWidget-v1
VERSION:2.0
METHOD:PUBLISH
BEGIN:VTIMEZONE
TZID:Pacific/Midway
X-LIC-LOCATION:Pacific/Midway
BEGIN:STANDARD
TZOFFSETFROM:-1100
TZOFFSETTO:-1100
TZNAME:SST
DTSTART:19700101T000000
END:STANDARD
END:VTIMEZONE
BEGIN:VEVENT
UID:3646443:Event:39032
DTSTAMP:20260421T015825Z
SUMMARY:Livestock Predation Prevention Conference
DESCRIPTION:Livestock Predation Prevention ConferenceDay 1 will provid
 e updates on predation trends, understanding various predators and rem
 oval options. The second day will be a series of eight workshops. Part
 icipants will be subdivided into eight groups and rotate through each 
 work station. The workshops will be very interactive and, because of t
 he smaller group format, will give each participant direct access to t
 he speakers.\n\nFor more information visit https://ontag.farms.com/eve
 nts/livestock-predation-prevention-conference
DTSTART;TZID=Pacific/Midway:20130410T000000
DTEND;TZID=Pacific/Midway:20130411T235900
CATEGORIES:education
LOCATION:Holiday Inn,  Peterborough, Ontairo
WEBSITE:http://www.ontariosheep.org/LinkClick.aspx?fileticket=3k5EoNKw
 Kmg%3D&tabid=124
URL:http://www.ontariosheep.org/LinkClick.aspx?fileticket=3k5EoNKwKmg%
 3D&tabid=124
CONTACT:
ORGANIZER:Ontario Sheep, Ontario Cattlemens Association and Ontario Mi
 nsitry of Agriculture and Food and Ministry of Rural Affairs
ATTACH;FMTTYPE="image/jpeg":
ATTENDEE;ROLE=REQ-PARTICIPANT;PARTSTAT=ACCEPTED;RSVP=TRUE;CN="Betty Su
 mmerhayes":https://ontag.farms.com/profile/BettySummerhayes
END:VEVENT
END:VCALENDAR
