BEGIN:VCALENDAR
PRODID:NingEventWidget-v1
VERSION:2.0
METHOD:PUBLISH
BEGIN:VTIMEZONE
TZID:Pacific/Midway
X-LIC-LOCATION:Pacific/Midway
BEGIN:STANDARD
TZOFFSETFROM:-1100
TZOFFSETTO:-1100
TZNAME:SST
DTSTART:19700101T000000
END:STANDARD
END:VTIMEZONE
BEGIN:VEVENT
UID:3646443:Event:3792
DTSTAMP:20260422T162713Z
SUMMARY:Local Food Connection: Farmer/Food Buyer Networking Event
DESCRIPTION:Local Food Connection: Farmer/Food Buyer Networking Event\
 n\nMarch 29, 2010\n\nLondon Hunt and Country Club\nLondon, Ontario\n\n
 9:00 a.m. – 12 noon\n\nA Local Food Connection: Farmer/ Food Buyer N
 etworking Event comes to the London Hunt and County Club on March 29, 
 to provide opportunities for farmers and food buyers to meet one-on-on
 e and to explore opportunities to do business together.\n\nWho should 
 attend? Farmers who are interested in finding out more about selling i
 nto local food marketing opportunities, and chefs, caterers, food reta
 ilers, food processors, distributors, or food-service and institutiona
 l food providers looking to offer more local food. This is a must atte
 nd event.\n\nFarmers and food buyers will have the opportunity to meet
  in one-on-one sessions to develop business connections. A Local Food 
 Buffet will be featured throughout the event.\n\nPre-registration is r
 equired. There is no charge to farmers who are exhibitors. The registr
 ation fee is $20.00 for all others.\n\nFor complete details and to reg
 ister, visit the London Economic Development Corporation website at ww
 w.ledc.com/newsevents/events/. You can also contact Karen Eatwell, Nat
 ional Farmers Union office at 519-232-9638, 1-888-832-9638, kareneatwe
 ll@execulink.com\n\n\nThis event is presented by our partners Savour O
 ntario , Farm Credit Canada , and our contributing partners, Libro Fin
 ancial Group and Local Food Plus.\n\nFor more information visit https:
 //ontag.farms.com/events/local-food-connection
DTSTART;TZID=Pacific/Midway:20100329T090000
DTEND;TZID=Pacific/Midway:20100329T120000
CATEGORIES:"farmer/food", buyer, networking, event
LOCATION:London Hunt and Country Club
WEBSITE:http://www.ledc.com/newsevents/events/
URL:http://www.ledc.com/newsevents/events/
CONTACT:Karen Eatwell, National Farmers Union office at 519-232-9638, 
 1-888-832-9638
ORGANIZER:London Economic Development Corporation, National Farmers Un
 ion
ATTACH;FMTTYPE="image/jpeg":
ATTENDEE;ROLE=REQ-PARTICIPANT;PARTSTAT=ACCEPTED;RSVP=TRUE;CN=AgOntario
 :https://ontag.farms.com/profile/AgOntario
END:VEVENT
END:VCALENDAR
