BEGIN:VCALENDAR
PRODID:NingEventWidget-v1
VERSION:2.0
METHOD:PUBLISH
BEGIN:VTIMEZONE
TZID:Pacific/Midway
X-LIC-LOCATION:Pacific/Midway
BEGIN:STANDARD
TZOFFSETFROM:-1100
TZOFFSETTO:-1100
TZNAME:SST
DTSTART:19700101T000000
END:STANDARD
END:VTIMEZONE
BEGIN:VEVENT
UID:3646443:Event:8021
DTSTAMP:20260422T025805Z
SUMMARY:Local IP Soybean Workshops
DESCRIPTION:LOCATIONS & DATES:\nONTARIO\nWoodstock – Monday, January
  24, 2011 (register for this location)Quality Hotel & Suites, 580 Brui
 n Blvd.\nWalkerton - Tuesday, January 25, 2011 (register for this loca
 tion)Knights of Columbus Hall, 1658 Hwy 9, RR5, Mildmay\nChesterville 
 – Thursday, January 27, 2011 (register for this location)Chestervill
 e Legion, 167 Queen Street West\nThey cost about 26 dollars.Register b
 y January 17th through the website … www.cigi.ca or by phoning 204-9
 83-2477.\n\nFor more information visit https://ontag.farms.com/events/
 local-ip-soybean-workshops
DTSTART;TZID=Pacific/Midway:20110124T000000
DTEND;TZID=Pacific/Midway:20110125T235900
CATEGORIES:ip, soybean, workshops
LOCATION:Ontario
WEBSITE:http://www.cigi.ca/csc_producer.htm
URL:http://www.cigi.ca/csc_producer.htm
CONTACT:204-983-2477
ORGANIZER:Canadian Soybean Council (CSC) Producer Program
ATTACH;FMTTYPE="image/jpeg":http://storage.ning.com/topology/rest/1.0/
 file/get/1091510594?profile=original
ATTENDEE;ROLE=REQ-PARTICIPANT;PARTSTAT=ACCEPTED;RSVP=TRUE;CN="OntAG Ad
 min":https://ontag.farms.com/profile/OntAGAdmin
END:VEVENT
END:VCALENDAR
