BEGIN:VCALENDAR
PRODID:NingEventWidget-v1
VERSION:2.0
METHOD:PUBLISH
BEGIN:VTIMEZONE
TZID:Pacific/Midway
X-LIC-LOCATION:Pacific/Midway
BEGIN:STANDARD
TZOFFSETFROM:-1100
TZOFFSETTO:-1100
TZNAME:SST
DTSTART:19700101T000000
END:STANDARD
END:VTIMEZONE
BEGIN:VEVENT
UID:3646443:Event:56299
DTSTAMP:20260421T131050Z
SUMMARY:Local Pull at the Barrie Fair
DESCRIPTION:Vintage & Field Stock\nAt the new Essa Agriplex on Thursda
 y, August 21st at 7pm!  Vintage 1970 or older and field stock with no
  age restriction - see the class breakdown and rules at www.barriefair
 .ca .\n\nFor more information visit https://ontag.farms.com/events/loc
 al-pull-at-the-barrie-fair
DTSTART;TZID=Pacific/Midway:20140821T190000
DTEND;TZID=Pacific/Midway:20140821T220000
CATEGORIES:local, pull
LOCATION:Essa Agriplex
WEBSITE:http://www.barriefair.ca
URL:http://www.barriefair.ca
CONTACT:705 726 1200
ORGANIZER:
ATTACH;FMTTYPE="image/jpeg":
ATTENDEE;ROLE=REQ-PARTICIPANT;PARTSTAT=ACCEPTED;RSVP=TRUE;CN="Dawna Mi
 tchell":https://ontag.farms.com/profile/DawnaMitchell
END:VEVENT
END:VCALENDAR
