BEGIN:VCALENDAR
PRODID:NingEventWidget-v1
VERSION:2.0
METHOD:PUBLISH
BEGIN:VTIMEZONE
TZID:Pacific/Midway
X-LIC-LOCATION:Pacific/Midway
BEGIN:STANDARD
TZOFFSETFROM:-1100
TZOFFSETTO:-1100
TZNAME:SST
DTSTART:19700101T000000
END:STANDARD
END:VTIMEZONE
BEGIN:VEVENT
UID:3646443:Event:63171
DTSTAMP:20260425T074924Z
SUMMARY:London Dairy Congress
DESCRIPTION:THE WESTERN FAIR DISTRICT IS EXCITED TO INTRODUCE THE 2016
  LONDON DAIRY CONGRESS.\nThis show brings together leaders to showca
 se the latest industry trends and newest technology. Interactive edu
 cational sessions, strong lineup of exhibitors, and an educational jun
 ior dairy component.\nThe London Dairy Congress is a great opportuni
 ty to promote your business, to the producers of the Dairy Industry.
 \nVisit the website now: http://www.westernfairdistrict.com/londondai
 rycongress/\n\nFor more information visit https://ontag.farms.com/even
 ts/london-dairy-congress
DTSTART;TZID=Pacific/Midway:20160204T090000
DTEND;TZID=Pacific/Midway:20160205T160000
CATEGORIES:showcase
LOCATION:Metroland Media Agriplex
WEBSITE:http://www.westernfairdistrict.com/londondairycongress/
URL:http://www.westernfairdistrict.com/londondairycongress/
CONTACT:
ORGANIZER;CN="OntAG Admin":https://ontag.farms.com/profile/OntAGAdmin
ATTACH;FMTTYPE="image/jpeg":http://storage.ning.com/topology/rest/1.0/
 file/get/1091541477?profile=original
ATTENDEE;ROLE=REQ-PARTICIPANT;PARTSTAT=ACCEPTED;RSVP=TRUE;CN="OntAG Ad
 min":https://ontag.farms.com/profile/OntAGAdmin
END:VEVENT
END:VCALENDAR
