BEGIN:VCALENDAR
PRODID:NingEventWidget-v1
VERSION:2.0
METHOD:PUBLISH
BEGIN:VTIMEZONE
TZID:Pacific/Midway
X-LIC-LOCATION:Pacific/Midway
BEGIN:STANDARD
TZOFFSETFROM:-1100
TZOFFSETTO:-1100
TZNAME:SST
DTSTART:19700101T000000
END:STANDARD
END:VTIMEZONE
BEGIN:VEVENT
UID:3646443:Event:77387
DTSTAMP:20260421T022930Z
SUMMARY:London Farm Show 2020
DESCRIPTION:WHAT TO EXPECT AT THE SHOW:350+ Exhibitors\r\nComplimentar
 y shuttle service, sponsored by Alpine\r\nOpportunities to research an
 d talk with new suppliers\r\nIndustry experts, with a wealth of knowle
 dge and experience\r\nAn opportunity to re-connect with friends, neigh
 bours and businesses\r\nInteractive & educational seminars, focusing o
 n what’s new and changing in the agricultural industry\r\nAnnual Mid
 dlesex Hall of Fame induction ceremonyAs in 2019, the show is between 
 the Agriplex at Western Fair District and the BMO Centre London. Compl
 imentary shuttle service sponsored by Alpine is provided.\n\nFor more 
 information visit https://ontag.farms.com/events/london-farm-show-2020
DTSTART;TZID=Pacific/Midway:20200304T090000
DTEND;TZID=Pacific/Midway:20200306T160000
CATEGORIES:trade, show
LOCATION:Agriplex , Western Fair District
WEBSITE:http://www.westernfairdistrict.com/london-farm-show
URL:http://www.westernfairdistrict.com/london-farm-show
CONTACT:(519) 438-7203
ORGANIZER:Western Fair District
ATTACH;FMTTYPE="image/jpeg":
ATTENDEE;ROLE=REQ-PARTICIPANT;PARTSTAT=ACCEPTED;RSVP=TRUE;CN="OntAG Ad
 min":https://ontag.farms.com/profile/OntAGAdmin
END:VEVENT
END:VCALENDAR
