BEGIN:VCALENDAR
PRODID:NingEventWidget-v1
VERSION:2.0
METHOD:PUBLISH
BEGIN:VTIMEZONE
TZID:Pacific/Midway
X-LIC-LOCATION:Pacific/Midway
BEGIN:STANDARD
TZOFFSETFROM:-1100
TZOFFSETTO:-1100
TZNAME:SST
DTSTART:19700101T000000
END:STANDARD
END:VTIMEZONE
BEGIN:VEVENT
UID:3646443:Event:115811
DTSTAMP:20260419T071231Z
SUMMARY:London Farm Show
DESCRIPTION:The London Farm Show is owned and operated by the Western 
 Fair Association, a not-for-profit Agricultural Society located in Lon
 don, Ontario. The London Farm Show is the largest indoor Farm Show in 
 Eastern Canada, and occurs annually each year in March. Attendees at t
 he show can expect knowledge and connected exhibitors, new equipment &
  technology, and an opportunity to reconnect with friends and neighbou
 rs.To buy a Ticket, Please click here\n\nFor more information visit h
 ttps://ontag.farms.com/events/london-farm-show-3
DTSTART;TZID=Pacific/Midway:20260304T210000
DTEND;TZID=Pacific/Midway:20260306T170000
CATEGORIES:farm, show
LOCATION:J-AAR Expo Centre at Western Fair District
WEBSITE:https://www.londonfarmshow.com/about-the-london-farm-show
URL:https://www.londonfarmshow.com/about-the-london-farm-show
CONTACT:Toll free: 1 (800) 619-4629 | Local: (519) 438-7203
ORGANIZER:Western Fair Association
ATTACH;FMTTYPE="image/jpeg":https://storage.ning.com/topology/rest/1.0
 /file/get/31087199492?profile=original
ATTENDEE;ROLE=REQ-PARTICIPANT;PARTSTAT=ACCEPTED;RSVP=TRUE;CN="OntAG Ad
 min":https://ontag.farms.com/profile/OntAGAdmin
END:VEVENT
END:VCALENDAR
