BEGIN:VCALENDAR
PRODID:NingEventWidget-v1
VERSION:2.0
METHOD:PUBLISH
BEGIN:VTIMEZONE
TZID:Pacific/Midway
X-LIC-LOCATION:Pacific/Midway
BEGIN:STANDARD
TZOFFSETFROM:-1100
TZOFFSETTO:-1100
TZNAME:SST
DTSTART:19700101T000000
END:STANDARD
END:VTIMEZONE
BEGIN:VEVENT
UID:3646443:Event:39724
DTSTAMP:20260421T103759Z
SUMMARY:London - Growing Forward 2 Information Session
DESCRIPTION:This session will Provide information on the Growing Forwa
 rd 2 program, a comprehensive federal-provincial-territorial framework
  Aimed at Encouraging innovation, compétitivité and market developme
 nt in Canada's agri-food and agri-products sector. The Anticipated pa
 rticipants will be Ontario producteurs, processors, and organizations 
 / collaborations. session will be The hosted by Ontario Soil and Crop
  Improvement Association and Ontario Ministry of Agriculture and Food 
 / Ministry of Rural Affairs - Rural Programs Branch.   \nDuring this 
 briefing, information will be provided about the Growing Forward 2, a 
 comprehensive strategic framework, federal-provincial-territorial, to 
 promote innovation, competitiveness and the development of markets for
  Canadian agri-food sector and agricultural products.\n\n \nThe brief
 ing is aimed at producers, processing companies, organizations and par
 tnerships in Ontario of the environment. \n\n \nThe session will be 
 organized by the Association for soil and crops in Ontario and the Min
 istry of Agriculture and Food and the Ontario Ministry of Rural Affair
 s - Programs Directorate rural communities.\n\n\nFor more information 
 visit https://ontag.farms.com/events/london-growing-forward-2-informat
 ion-session-the-briefing-on-grow
DTSTART;TZID=Pacific/Midway:20130603T133000
DTEND;TZID=Pacific/Midway:20130603T153000
CATEGORIES:information, session
LOCATION:Four Points Sheridan
WEBSITE:http://www.registration.wildapricot.org/GF2Information?eventId
 =661882&EventViewMode=EventDetails
URL:http://www.registration.wildapricot.org/GF2Information?eventId=661
 882&EventViewMode=EventDetails
CONTACT:
ORGANIZER:OMAF
ATTACH;FMTTYPE="image/jpeg":http://storage.ning.com/topology/rest/1.0/
 file/get/1091519562?profile=original
ATTENDEE;ROLE=REQ-PARTICIPANT;PARTSTAT=ACCEPTED;RSVP=TRUE;CN="OntAG Ad
 min":https://ontag.farms.com/profile/OntAGAdmin
ATTENDEE;ROLE=REQ-PARTICIPANT;PARTSTAT=ACCEPTED;RSVP=TRUE;CN="linda de
 kort":https://ontag.farms.com/profile/lindadekort
END:VEVENT
END:VCALENDAR
