BEGIN:VCALENDAR
PRODID:NingEventWidget-v1
VERSION:2.0
METHOD:PUBLISH
BEGIN:VTIMEZONE
TZID:Pacific/Midway
X-LIC-LOCATION:Pacific/Midway
BEGIN:STANDARD
TZOFFSETFROM:-1100
TZOFFSETTO:-1100
TZNAME:SST
DTSTART:19700101T000000
END:STANDARD
END:VTIMEZONE
BEGIN:VEVENT
UID:3646443:Event:11586
DTSTAMP:20260421T221504Z
SUMMARY:London Swine Conference
DESCRIPTION:London Swine Conference\n\"Exploring the Future\"\nMarch 3
 0 - 31, 2011 London Convention CentreLondon Ontario\n\nFor more inform
 ation visit https://ontag.farms.com/events/london-swine-conference-1
DTSTART;TZID=Pacific/Midway:20110330T000000
DTEND;TZID=Pacific/Midway:20110331T235900
CATEGORIES:conference
LOCATION:London, Ontario
WEBSITE:http://www.londonswineconference.ca/index.htm
URL:http://www.londonswineconference.ca/index.htm
CONTACT:(519) 482-3333
ORGANIZER:London Swine Conference Organizing Committee
ATTACH;FMTTYPE="image/jpeg":http://storage.ning.com/topology/rest/1.0/
 file/get/1091511164?profile=original
ATTENDEE;ROLE=REQ-PARTICIPANT;PARTSTAT=ACCEPTED;RSVP=TRUE;CN="Betty Su
 mmerhayes":https://ontag.farms.com/profile/BettySummerhayes
ATTENDEE;ROLE=REQ-PARTICIPANT;PARTSTAT=TENTATIVE;RSVP=TRUE;CN="Richard
  Hamilton":https://ontag.farms.com/profile/RichardHamilton
END:VEVENT
END:VCALENDAR
