BEGIN:VCALENDAR
PRODID:NingEventWidget-v1
VERSION:2.0
METHOD:PUBLISH
BEGIN:VTIMEZONE
TZID:Pacific/Midway
X-LIC-LOCATION:Pacific/Midway
BEGIN:STANDARD
TZOFFSETFROM:-1100
TZOFFSETTO:-1100
TZNAME:SST
DTSTART:19700101T000000
END:STANDARD
END:VTIMEZONE
BEGIN:VEVENT
UID:3646443:Event:61790
DTSTAMP:20260423T100709Z
SUMMARY:Maizex 30th Anniversary Open House, Tilbury, Ontario
DESCRIPTION:Maizex Seeds Open House - 30th Anniversary.\nAgenda\n11:30
  am - 12 pmRegistration and Welcome12 pm - 1 pmEnjoy a delicious BBQ L
 unchWelcome & Thank you from Maizex President, Dave Baute1 pm - 3 pmVi
 sit our Agronomy Site and Tour Stations for the latest in agronomic st
 rategies to see firsthand our seed production innovations and learn mo
 re about our outstanding product offering3 pmDepart with Customer Gift
 \nTOUR STATIONS\nLate Season Nitrogen ApplicationSeed Field Production
 Corn BreedingNeonicotinoids - Scouting, BMPs, Dealing with Provincial 
 RegulationsDrone Demo - Ag Business and Crop Inc.Seed Plant Tour - “
 See the Difference”Roundup Ready 2 XTend™ PreviewMaizex Agronomy S
 iteContact Info Email:carlie@maizex.com Phone:(877) 682-1720\n\nFor mo
 re information visit https://ontag.farms.com/events/maizex-30th-annive
 rsary-open-house
DTSTART;TZID=Pacific/Midway:20150812T000000
DTEND;TZID=Pacific/Midway:20150812T235900
CATEGORIES:anniversary
LOCATION:Tilbury, Ontario
WEBSITE:http://www.maizex.com/news/events/maizex-30th-anniversary-open
 -house
URL:http://www.maizex.com/news/events/maizex-30th-anniversary-open-hou
 se
CONTACT:(877) 682-1720
ORGANIZER;CN="OntAG Admin":https://ontag.farms.com/profile/OntAGAdmin
ATTACH;FMTTYPE="image/jpeg":
ATTENDEE;ROLE=REQ-PARTICIPANT;PARTSTAT=ACCEPTED;RSVP=TRUE;CN="OntAG Ad
 min":https://ontag.farms.com/profile/OntAGAdmin
END:VEVENT
END:VCALENDAR
